BEGIN:VCALENDAR
VERSION:2.0
PRODID:-//AU LOCAL - ECPv6.15.11//NONSGML v1.0//EN
CALSCALE:GREGORIAN
METHOD:PUBLISH
X-WR-CALNAME:AU LOCAL
X-ORIGINAL-URL:https://aulocal.org
X-WR-CALDESC:Évènements pour AU LOCAL
REFRESH-INTERVAL;VALUE=DURATION:PT1H
X-Robots-Tag:noindex
X-PUBLISHED-TTL:PT1H
BEGIN:VTIMEZONE
TZID:Europe/Paris
BEGIN:DAYLIGHT
TZOFFSETFROM:+0100
TZOFFSETTO:+0200
TZNAME:CEST
DTSTART:20250330T010000
END:DAYLIGHT
BEGIN:STANDARD
TZOFFSETFROM:+0200
TZOFFSETTO:+0100
TZNAME:CET
DTSTART:20251026T010000
END:STANDARD
BEGIN:DAYLIGHT
TZOFFSETFROM:+0100
TZOFFSETTO:+0200
TZNAME:CEST
DTSTART:20260329T010000
END:DAYLIGHT
BEGIN:STANDARD
TZOFFSETFROM:+0200
TZOFFSETTO:+0100
TZNAME:CET
DTSTART:20261025T010000
END:STANDARD
BEGIN:DAYLIGHT
TZOFFSETFROM:+0100
TZOFFSETTO:+0200
TZNAME:CEST
DTSTART:20270328T010000
END:DAYLIGHT
BEGIN:STANDARD
TZOFFSETFROM:+0200
TZOFFSETTO:+0100
TZNAME:CET
DTSTART:20271031T010000
END:STANDARD
END:VTIMEZONE
BEGIN:VEVENT
DTSTART;TZID=Europe/Paris:20260302T180000
DTEND;TZID=Europe/Paris:20260302T193000
DTSTAMP:20260423T171449
CREATED:20260226T152923Z
LAST-MODIFIED:20260226T152923Z
UID:662-1772474400-1772479800@aulocal.org
SUMMARY:assemblée "les chats ki touillent"
DESCRIPTION:Prépa/ orga cantine 8 mars \nProjets?
URL:https://aulocal.org/event/assemblee-les-chats-ki-touillent/
END:VEVENT
BEGIN:VEVENT
DTSTART;TZID=Europe/Paris:20260304T160000
DTEND;TZID=Europe/Paris:20260304T183000
DTSTAMP:20260423T171449
CREATED:20251203T071414Z
LAST-MODIFIED:20251203T071414Z
UID:616-1772640000-1772649000@aulocal.org
SUMMARY:Café Crypto Cookies Installation et configuration de Wasted
DESCRIPTION:Goûter consacré à des pratiques et des outils de sécurité basiques pour les outils numériques. \nLe but : à 16 heures on vient avec des jus\, des tisanes\, du thé\, du café et des biscuits\, on se met au chaud\, on sort les smartphones pendant le goûter pour faire une mise en pratique rapide\, et éventuellement on enchaîne sur des petits jeux de société. \n– mercredi 4 mars :\nInstallation et configuration de Wasted.\nUtilité : en cas de téléphone perdu/volé/whatever\, on le piège pour\npouvoir l’effacer à distance ou si la mauvaise application est\ndéclenchée. \n 
URL:https://aulocal.org/event/cafe-crypto-cookies-installation-et-configuration-de-wasted/
END:VEVENT
BEGIN:VEVENT
DTSTART;TZID=Europe/Paris:20260315T190000
DTEND;TZID=Europe/Paris:20260315T210000
DTSTAMP:20260423T171449
CREATED:20260308T183457Z
LAST-MODIFIED:20260308T184701Z
UID:665-1773601200-1773608400@aulocal.org
SUMMARY:Table d'écriture aux personnes détenu-e-s
DESCRIPTION:Une fois par mois\, nous nous réunissons pour écrire aux personnes enfermé-e-s et lutter contre l’isolement carcéral.
URL:https://aulocal.org/event/table-decriture-aux-personnes-detenu-e-s/
LOCATION:au local\, 34 rue du colonel roux\, gap\, 05000\, France
END:VEVENT
BEGIN:VEVENT
DTSTART;TZID=Europe/Paris:20260319T120000
DTEND;TZID=Europe/Paris:20260319T180000
DTSTAMP:20260423T171449
CREATED:20260308T184156Z
LAST-MODIFIED:20260308T184249Z
UID:667-1773921600-1773943200@aulocal.org
SUMMARY:Bloquons tout\, dont la justice anti-sociale
DESCRIPTION:Rdv à 12h au local pour soutenir une camarade qui passe en procès à Gap pour rébellion\, tentative de vol de matraque\, violence et refus de prise d’ADN\, c’était dans la soirée du 10 septembre pendant la mobilisation bloquons tout => plus d’infos ici : https://valleesenlutte.org/spip.php?article1028 \nUn repas sera préparé et vous pouvez amener des compléments\, on mange\nensemble pour se rendre ensuite au tribunal.
URL:https://aulocal.org/event/bloquons-tout-dont-la-justice-anti-sociale/
END:VEVENT
BEGIN:VEVENT
DTSTART;TZID=Europe/Paris:20260324T120000
DTEND;TZID=Europe/Paris:20260327T140000
DTSTAMP:20260423T171449
CREATED:20260324T133448Z
LAST-MODIFIED:20260324T133658Z
UID:724-1774353600-1774620000@aulocal.org
SUMMARY:collecte flotille Gaza
DESCRIPTION:Dans le cadre de la prochaine flotille pour Gaza qui partira début avril\, le Local de Gap participe à la collecte de matériel. \nCollecte tous les jours de 12h à 14h jusqu au 27 mars \nNous comptons sur la solidarité Haut-Alpine pour porter un message de soutien fort  » Gaza n’est pas toute seule\, solidarité entre les peuples » \nListe des besoins : \nPour les marins⚓ \n-Bonnets\n-Lunettes de soleil\n-Lampes frontales avec lumière rouge\n-Sacs de couchage CHAUDS\n-Sacs étanche\n-Batteries portables \nPour Gaza🇵🇸 uniquement matériel neuf: \nLes bateaux enfance et éducation \n-Cahiers d’écolier\n-Kits de crayons de couleur/taille crayon\n-Kits de pinceau de peinture \nPour le bateau pêche \n-Pinceaux\n-Rouleau de peinture\n-Spatule de travaux\n-Fibre de verre\n-Resine polyester \nPour le bateau culture \n-Peinture acrylique\n-Fil de coton\n-Pinceaux \nPour le bateau écologie \n-Pastille de purification \nPar souci de place nous avons décidé de nous concentrer sur les besoins des bateaux enfance et éducation et sur la collecte de sac de couchage\, si vous avez du matériel des autres listes nous le prendrons pas de soucis. \nVous pouvez déposer les dons au local 34 rue colonel roux Gap entre 12h et 14h jusqu’à vendredi inclus \nPour + d’info contacter :\nListes signal : waite_spirit\nMail: brigitte987@riseup.net \nFree Palestine \nAmour et lutte
URL:https://aulocal.org/event/collecte-fmotille-gaza/
LOCATION:au local\, 34 rue du colonel roux\, gap\, 05000\, France
END:VEVENT
BEGIN:VEVENT
DTSTART;TZID=Europe/Paris:20260325T120000
DTEND;TZID=Europe/Paris:20260325T140000
DTSTAMP:20260423T171449
CREATED:20260321T142255Z
LAST-MODIFIED:20260321T142255Z
UID:707-1774440000-1774447200@aulocal.org
SUMMARY:Prepa 1er Mai
DESCRIPTION:Réunion d’orga du 1er mai  projet « carnaval Antifa » pour le 1 Mai. Si possible faire un gros Bloco avec son\, costume\, percu et autre et prise de parole « Anarchiste »
URL:https://aulocal.org/event/prepa-1er-mai/
LOCATION:au local\, 34 rue du colonel roux\, gap\, 05000\, France
END:VEVENT
BEGIN:VEVENT
DTSTART;TZID=Europe/Paris:20260326T140000
DTEND;TZID=Europe/Paris:20260326T140000
DTSTAMP:20260423T171449
CREATED:20260324T131411Z
LAST-MODIFIED:20260324T131411Z
UID:721-1774533600-1774533600@aulocal.org
SUMMARY:1ere réunion psy psy Gap
DESCRIPTION:Une première reunion pour commencer à définir un cadre et un fond à la demarche \nLes piste\nPartages de Pratiques et réflexion.  \nAvec l’expérience et la brochure PsyPsy du Limousin.\nConstitution d’un groupe ouvert et de fond! \nSans nommer les expériences vécues ou soutiens en cours.\nDévelopper\, soutenir collectivement savoir faire/ être\, réseau…
URL:https://aulocal.org/event/1ere-reunion-psy-psy-gap/
LOCATION:au local\, 34 rue du colonel roux\, gap\, 05000\, France
END:VEVENT
BEGIN:VEVENT
DTSTART;TZID=Europe/Paris:20260330T150000
DTEND;TZID=Europe/Paris:20260330T173000
DTSTAMP:20260423T171449
CREATED:20260327T142812Z
LAST-MODIFIED:20260328T150041Z
UID:738-1774882800-1774891800@aulocal.org
SUMMARY:Réunion réflexions entraide détresses psy
DESCRIPTION:réunion pour lancer un groupe de réflexion pour de l’entraide autour des détresses psy ou morales afin de réfléchir ensemble.\nDes pistes:\nPartages de Pratiques et réflexion. L’expérience et la brochure PsyPsy du Limousin.\nConstitution d’un groupe ouvert et de fond!\nSans nommer les expériences vécues ou soutiens en cours.\nDévelopper\, soutenir collectivement savoir faire/ être\, réseau…
URL:https://aulocal.org/event/reunion-reflexions-entraide-detresses-psy/
LOCATION:au local\, 34 rue du colonel roux\, gap\, 05000\, France
END:VEVENT
BEGIN:VEVENT
DTSTART;TZID=Europe/Paris:20260331T140000
DTEND;TZID=Europe/Paris:20260331T180000
DTSTAMP:20260423T171449
CREATED:20260326T145129Z
LAST-MODIFIED:20260326T160358Z
UID:729-1774965600-1774980000@aulocal.org
SUMMARY:prepa soirée domination adulte
DESCRIPTION: 
URL:https://aulocal.org/event/prepa-soiree-domination-adulte/
LOCATION:au local\, 34 rue du colonel roux\, gap\, 05000\, France
END:VEVENT
END:VCALENDAR