BEGIN:VCALENDAR
VERSION:2.0
PRODID:-//AU LOCAL - ECPv6.15.11//NONSGML v1.0//EN
CALSCALE:GREGORIAN
METHOD:PUBLISH
X-WR-CALNAME:AU LOCAL
X-ORIGINAL-URL:https://aulocal.org
X-WR-CALDESC:Évènements pour AU LOCAL
REFRESH-INTERVAL;VALUE=DURATION:PT1H
X-Robots-Tag:noindex
X-PUBLISHED-TTL:PT1H
BEGIN:VTIMEZONE
TZID:Europe/Paris
BEGIN:DAYLIGHT
TZOFFSETFROM:+0100
TZOFFSETTO:+0200
TZNAME:CEST
DTSTART:20240331T010000
END:DAYLIGHT
BEGIN:STANDARD
TZOFFSETFROM:+0200
TZOFFSETTO:+0100
TZNAME:CET
DTSTART:20241027T010000
END:STANDARD
BEGIN:DAYLIGHT
TZOFFSETFROM:+0100
TZOFFSETTO:+0200
TZNAME:CEST
DTSTART:20250330T010000
END:DAYLIGHT
BEGIN:STANDARD
TZOFFSETFROM:+0200
TZOFFSETTO:+0100
TZNAME:CET
DTSTART:20251026T010000
END:STANDARD
BEGIN:DAYLIGHT
TZOFFSETFROM:+0100
TZOFFSETTO:+0200
TZNAME:CEST
DTSTART:20260329T010000
END:DAYLIGHT
BEGIN:STANDARD
TZOFFSETFROM:+0200
TZOFFSETTO:+0100
TZNAME:CET
DTSTART:20261025T010000
END:STANDARD
END:VTIMEZONE
BEGIN:VEVENT
DTSTART;TZID=Europe/Paris:20250904T180000
DTEND;TZID=Europe/Paris:20250904T193000
DTSTAMP:20260424T021634
CREATED:20250814T191838Z
LAST-MODIFIED:20250814T191838Z
UID:509-1757008800-1757014200@aulocal.org
SUMMARY:préparation fête au profit des réfugiés
DESCRIPTION:
URL:https://aulocal.org/event/preparation-fete-au-profit-des-refugies/
END:VEVENT
BEGIN:VEVENT
DTSTART;TZID=Europe/Paris:20250911T190000
DTEND;TZID=Europe/Paris:20250911T213000
DTSTAMP:20260424T021634
CREATED:20250830T152246Z
LAST-MODIFIED:20250831T082214Z
UID:525-1757617200-1757626200@aulocal.org
SUMMARY:BLOB: Arpentage
DESCRIPTION:L’objectif de ce temps est de se rassembler à plusieurs pour décortiquer des textes : prendre le temps de lire\, en discuter\, confronter nos compréhensions\, faire du lien avec le contexte actuel. La méthode s’inspire de l’éducation populaire\, qui se veut accessible à toutes et tous\, qu’on connaisse ou non les auteurices et les concepts\, qu’on soit à l’aise ou non à lire des essais : le but est justement de s’attaquer à plusieurs à des textes réputés complexes pour que ça le soit moins ! \nLa lecture proposée pour cette session : La Convivialité d’Ivan Illich (possibilité d’autres oeuvres) \nDéroulé : \n\n19h : arrivée conviviale\n19h30-21h30 : lecture collective (prendre le temps de lire\, puis prendre le temps d’en discuter)\n\nA préparer : Pas besoin de lire quoique ce soit en amont\, on prendra le temps sur place ! Vous pouvez apporter de quoi grignoter/boire à partager\, mais cela ne doit pas être un frein.
URL:https://aulocal.org/event/blob-arpentage/
END:VEVENT
BEGIN:VEVENT
DTSTART;TZID=Europe/Paris:20250912T183000
DTEND;TZID=Europe/Paris:20250912T200000
DTSTAMP:20260424T021634
CREATED:20250814T191021Z
LAST-MODIFIED:20250814T191021Z
UID:505-1757701800-1757707200@aulocal.org
SUMMARY:assemblée cantine
DESCRIPTION:Besoin de volontaires  pour préparer et servir le repas pour la fête de soutien aux exilés fixée le 4 octobre. Si t’es dispo\, rejoins-nous!
URL:https://aulocal.org/event/assemblee-cantine-2/
END:VEVENT
BEGIN:VEVENT
DTSTART;TZID=Europe/Paris:20250922T173000
DTEND;TZID=Europe/Paris:20250922T190000
DTSTAMP:20260424T021634
CREATED:20250922T125147Z
LAST-MODIFIED:20250922T125147Z
UID:531-1758562200-1758567600@aulocal.org
SUMMARY:assemblée cantine
DESCRIPTION:
URL:https://aulocal.org/event/assemblee-cantine-3/
END:VEVENT
BEGIN:VEVENT
DTSTART;TZID=Europe/Paris:20250928T190000
DTEND;TZID=Europe/Paris:20250928T210000
DTSTAMP:20260424T021634
CREATED:20250901T084824Z
LAST-MODIFIED:20250901T084824Z
UID:529-1759086000-1759093200@aulocal.org
SUMMARY:Table d’écriture aux prisonnier-es
DESCRIPTION:Table d’écriture aux prisonnier-es ! venez nombreux partager la plume et l’apéro
URL:https://aulocal.org/event/table-decriture-aux-prisonnier-es-2/
END:VEVENT
END:VCALENDAR