BEGIN:VCALENDAR
VERSION:2.0
PRODID:-//AU LOCAL - ECPv6.15.11//NONSGML v1.0//EN
CALSCALE:GREGORIAN
METHOD:PUBLISH
X-WR-CALNAME:AU LOCAL
X-ORIGINAL-URL:https://aulocal.org
X-WR-CALDESC:Évènements pour AU LOCAL
REFRESH-INTERVAL;VALUE=DURATION:PT1H
X-Robots-Tag:noindex
X-PUBLISHED-TTL:PT1H
BEGIN:VTIMEZONE
TZID:Europe/Paris
BEGIN:DAYLIGHT
TZOFFSETFROM:+0100
TZOFFSETTO:+0200
TZNAME:CEST
DTSTART:20240331T010000
END:DAYLIGHT
BEGIN:STANDARD
TZOFFSETFROM:+0200
TZOFFSETTO:+0100
TZNAME:CET
DTSTART:20241027T010000
END:STANDARD
BEGIN:DAYLIGHT
TZOFFSETFROM:+0100
TZOFFSETTO:+0200
TZNAME:CEST
DTSTART:20250330T010000
END:DAYLIGHT
BEGIN:STANDARD
TZOFFSETFROM:+0200
TZOFFSETTO:+0100
TZNAME:CET
DTSTART:20251026T010000
END:STANDARD
BEGIN:DAYLIGHT
TZOFFSETFROM:+0100
TZOFFSETTO:+0200
TZNAME:CEST
DTSTART:20260329T010000
END:DAYLIGHT
BEGIN:STANDARD
TZOFFSETFROM:+0200
TZOFFSETTO:+0100
TZNAME:CET
DTSTART:20261025T010000
END:STANDARD
END:VTIMEZONE
BEGIN:VEVENT
DTSTART;TZID=Europe/Paris:20250601T190000
DTEND;TZID=Europe/Paris:20250601T210000
DTSTAMP:20260424T071430
CREATED:20250519T151117Z
LAST-MODIFIED:20250519T151117Z
UID:410-1748804400-1748811600@aulocal.org
SUMMARY:Table d'écriture aux détenu.e.s
DESCRIPTION:
URL:https://aulocal.org/event/table-decriture-aux-detenu-e-s-2/
END:VEVENT
BEGIN:VEVENT
DTSTART;TZID=Europe/Paris:20250602T183000
DTEND;TZID=Europe/Paris:20250602T200000
DTSTAMP:20260424T071430
CREATED:20250525T195712Z
LAST-MODIFIED:20250525T195712Z
UID:435-1748889000-1748894400@aulocal.org
SUMMARY:assemblée cantine "les chats ki touillent"
DESCRIPTION:
URL:https://aulocal.org/event/assemblee-cantine-les-chats-ki-touillent/
END:VEVENT
BEGIN:VEVENT
DTSTART;TZID=Europe/Paris:20250604T190000
DTEND;TZID=Europe/Paris:20250604T230000
DTSTAMP:20260424T071430
CREATED:20250520T051415Z
LAST-MODIFIED:20250520T052105Z
UID:422-1749063600-1749078000@aulocal.org
SUMMARY:19h repas partagé + 20h cinépirate: Land and freedom (Ken Loach)
DESCRIPTION:
URL:https://aulocal.org/event/19h-repas-partage-20h-cinepirate-lad-and-freedom-ken-loach/
END:VEVENT
BEGIN:VEVENT
DTSTART;TZID=Europe/Paris:20250605T180000
DTEND;TZID=Europe/Paris:20250605T210000
DTSTAMP:20260424T071430
CREATED:20250526T063211Z
LAST-MODIFIED:20250526T063211Z
UID:438-1749146400-1749157200@aulocal.org
SUMMARY:Fais GAF!
DESCRIPTION:
URL:https://aulocal.org/event/fais-gaf-2/
END:VEVENT
BEGIN:VEVENT
DTSTART;TZID=Europe/Paris:20250606T190000
DTEND;TZID=Europe/Paris:20250606T210000
DTSTAMP:20260424T071430
CREATED:20250606T072614Z
LAST-MODIFIED:20250606T101432Z
UID:451-1749236400-1749243600@aulocal.org
SUMMARY:Atelier chant
DESCRIPTION:3ème atelier chant à 19h pour la « vraivolution des casseureuses du 14 juillet » (nom non définitif)
URL:https://aulocal.org/event/18h30-atelier-chant/
END:VEVENT
BEGIN:VEVENT
DTSTART;TZID=Europe/Paris:20250610T183000
DTEND;TZID=Europe/Paris:20250610T203000
DTSTAMP:20260424T071430
CREATED:20250601T154246Z
LAST-MODIFIED:20250601T154246Z
UID:448-1749580200-1749587400@aulocal.org
SUMMARY:AOP Local à la pépinière
DESCRIPTION:rendez-vous au kiosque à la pépinière et repli au Local  en cas de mauvais temps
URL:https://aulocal.org/event/aop-local-a-la-pepiniere/
END:VEVENT
BEGIN:VEVENT
DTSTART;TZID=Europe/Paris:20250613T190000
DTEND;TZID=Europe/Paris:20250613T210000
DTSTAMP:20260424T071430
CREATED:20250610T142731Z
LAST-MODIFIED:20250610T142731Z
UID:455-1749841200-1749848400@aulocal.org
SUMMARY:Atelier chant
DESCRIPTION:4ème atelier chant à 19h pour la « vraivolution des casseureuses du 14 juillet »
URL:https://aulocal.org/event/atelier-chant-2/
END:VEVENT
BEGIN:VEVENT
DTSTART;TZID=Europe/Paris:20250616T183000
DTEND;TZID=Europe/Paris:20250616T203000
DTSTAMP:20260424T071430
CREATED:20250613T194620Z
LAST-MODIFIED:20250613T194620Z
UID:458-1750098600-1750105800@aulocal.org
SUMMARY:assemblée cantine « les chats ki touillent »
DESCRIPTION:
URL:https://aulocal.org/event/assemblee-cantine-les-chats-ki-touillent-2/
END:VEVENT
BEGIN:VEVENT
DTSTART;TZID=Europe/Paris:20250618T190000
DTEND;TZID=Europe/Paris:20250618T230000
DTSTAMP:20260424T071430
CREATED:20250526T063807Z
LAST-MODIFIED:20250610T142832Z
UID:440-1750273200-1750287600@aulocal.org
SUMMARY:19h repas partagé\, 20h cinepirate: 3 Ville à vendre"
DESCRIPTION:Film réalisé par JP Mocky. (1992) \nAprès avoir vendu sa société d’informatique\, Orphée\, intellectuel écologiste parisien\, part à l’aventure. Lors de son périple\, il fait une escale imprévue à Moussin\, bourgade de province ruinée par le chômage et où pourtant la population festoie à longueur d’année. Là\, il va assister fasciné à une série de meurtres spectaculaires parmi les notables de la ville et se trouver à la fois témoin\, suspect et enquêteur…
URL:https://aulocal.org/event/19h-repas-partafe-20h-cinepirate-3-ville-a-vendre/
END:VEVENT
END:VCALENDAR