BEGIN:VCALENDAR
VERSION:2.0
PRODID:-//AU LOCAL - ECPv6.15.11//NONSGML v1.0//EN
CALSCALE:GREGORIAN
METHOD:PUBLISH
X-ORIGINAL-URL:https://aulocal.org
X-WR-CALDESC:Évènements pour AU LOCAL
REFRESH-INTERVAL;VALUE=DURATION:PT1H
X-Robots-Tag:noindex
X-PUBLISHED-TTL:PT1H
BEGIN:VTIMEZONE
TZID:Europe/Paris
BEGIN:DAYLIGHT
TZOFFSETFROM:+0100
TZOFFSETTO:+0200
TZNAME:CEST
DTSTART:20240331T010000
END:DAYLIGHT
BEGIN:STANDARD
TZOFFSETFROM:+0200
TZOFFSETTO:+0100
TZNAME:CET
DTSTART:20241027T010000
END:STANDARD
BEGIN:DAYLIGHT
TZOFFSETFROM:+0100
TZOFFSETTO:+0200
TZNAME:CEST
DTSTART:20250330T010000
END:DAYLIGHT
BEGIN:STANDARD
TZOFFSETFROM:+0200
TZOFFSETTO:+0100
TZNAME:CET
DTSTART:20251026T010000
END:STANDARD
BEGIN:DAYLIGHT
TZOFFSETFROM:+0100
TZOFFSETTO:+0200
TZNAME:CEST
DTSTART:20260329T010000
END:DAYLIGHT
BEGIN:STANDARD
TZOFFSETFROM:+0200
TZOFFSETTO:+0100
TZNAME:CET
DTSTART:20261025T010000
END:STANDARD
END:VTIMEZONE
BEGIN:VEVENT
DTSTART;TZID=Europe/Paris:20250505T180000
DTEND;TZID=Europe/Paris:20250505T200000
DTSTAMP:20260424T084212
CREATED:20250504T095444Z
LAST-MODIFIED:20250504T095444Z
UID:390-1746468000-1746475200@aulocal.org
SUMMARY:Réunion cantine ChatKiTouillent
DESCRIPTION:
URL:https://aulocal.org/event/reunion-cantine-chatkitouillent/
END:VEVENT
BEGIN:VEVENT
DTSTART;TZID=Europe/Paris:20250506T183000
DTEND;TZID=Europe/Paris:20250506T203000
DTSTAMP:20260424T084212
CREATED:20250504T095153Z
LAST-MODIFIED:20250504T095153Z
UID:386-1746556200-1746563400@aulocal.org
SUMMARY:AOP du local
DESCRIPTION:Assemblée Orga Pleinière ? Assemblée ordinaire participative ? on sait plus… hehe! \nBref\, on s’organise!
URL:https://aulocal.org/event/aop-du-local-2/
END:VEVENT
BEGIN:VEVENT
DTSTART;TZID=Europe/Paris:20250513T183000
DTEND;TZID=Europe/Paris:20250513T200000
DTSTAMP:20260424T084212
CREATED:20250509T164039Z
LAST-MODIFIED:20250509T164039Z
UID:401-1747161000-1747166400@aulocal.org
SUMMARY:Réunion No JO
DESCRIPTION:Réunion No JO xx Déroute des routes
URL:https://aulocal.org/event/reunion-no-jo/
END:VEVENT
BEGIN:VEVENT
DTSTART;TZID=Europe/Paris:20250515T180000
DTEND;TZID=Europe/Paris:20250515T210000
DTSTAMP:20260424T084212
CREATED:20250504T095354Z
LAST-MODIFIED:20250504T095354Z
UID:388-1747332000-1747342800@aulocal.org
SUMMARY:Fais GAF! "Les privilèges"
DESCRIPTION:Jeudi 15 mai 2025 à partir de 18h \nRDV à la pépinière de Gap (vers le kiosque) \n!!! En cas de pluie (plus qu’un petit crachin) RDV au nouveau Local (34 rue du Colonel Roux\, Gap) !!!\n \n💥 Nous proposons une rencontre autour du sujet des PRIVILEGES 💥 \nDe quels privilèges on parle? Comment les reconnaître? Quels mécanismes? Comment les déconstruire ? \nCe sera animé avec des outils d’éducation populaire \nRendez-vous en mixité choisie: « Fais GAF! » est un rendez-vous sans hommes cisgenres hétérosexuels (pédé.e.x bienvenu.x).
URL:https://aulocal.org/event/fais-gaf-les-privileges/
END:VEVENT
BEGIN:VEVENT
DTSTART;TZID=Europe/Paris:20250519T183000
DTEND;TZID=Europe/Paris:20250519T200000
DTSTAMP:20260424T084212
CREATED:20250519T150358Z
LAST-MODIFIED:20250519T150358Z
UID:406-1747679400-1747684800@aulocal.org
SUMMARY:assemblée cantine
DESCRIPTION:
URL:https://aulocal.org/event/assemblee-cantine/
END:VEVENT
BEGIN:VEVENT
DTSTART;TZID=Europe/Paris:20250522T200000
DTEND;TZID=Europe/Paris:20250522T230000
DTSTAMP:20260424T084212
CREATED:20250506T080747Z
LAST-MODIFIED:20250506T080747Z
UID:394-1747944000-1747954800@aulocal.org
SUMMARY:Ciné-doc : Undercover\, exposing the far right
DESCRIPTION:Projection au Local jeudi 22 mai à 20h du documentaire Undercover\, exposing the far-right. \nCe film captivant nous fait découvrir le travail essentiel de « Hope Not Hate »\, un groupe anglais qui utilise le travail de terrain en s’infiltrant dans les milieux d’extrême droite pour dénoncer la menace de l’extrémisme dans le monde entier.
URL:https://aulocal.org/event/cine-doc-undercover-exposing-the-far-right/
LOCATION:au local\, 34 rue du colonel roux\, gap\, 05000\, France
END:VEVENT
BEGIN:VEVENT
DTSTART;TZID=Europe/Paris:20250523T193000
DTEND;TZID=Europe/Paris:20250523T210000
DTSTAMP:20260424T084212
CREATED:20250522T063643Z
LAST-MODIFIED:20250522T063643Z
UID:431-1748028600-1748034000@aulocal.org
SUMMARY:Atelier chant
DESCRIPTION:1er atelier chant à 19h30 au Local pour la « vraivolution des casseureuses du 14 juillet » (nom non définitif) \nAu programme\, les standards « Ah ça ira »\, « la danse des bombes »\, la Ravachole »\, « la semaine sanglante »… mais n’hésitez pas à v’nir en proposer d’autres ! \nA 19h30 au Local après le rassemblement de 18h à la Préfecture contre la dissolution de la jeune garde antifasciste et d’urgence palestine.
URL:https://aulocal.org/event/atelier-chant/
END:VEVENT
BEGIN:VEVENT
DTSTART;TZID=Europe/Paris:20250525T183000
DTEND;TZID=Europe/Paris:20250525T203000
DTSTAMP:20260424T084212
CREATED:20250519T150816Z
LAST-MODIFIED:20250519T150816Z
UID:408-1748197800-1748205000@aulocal.org
SUMMARY:assemblée Local
DESCRIPTION:
URL:https://aulocal.org/event/assemblee-local/
END:VEVENT
BEGIN:VEVENT
DTSTART;TZID=Europe/Paris:20250526T183000
DTEND;TZID=Europe/Paris:20250526T200000
DTSTAMP:20260424T084212
CREATED:20250519T212040Z
LAST-MODIFIED:20250519T212040Z
UID:412-1748284200-1748289600@aulocal.org
SUMMARY:reunion preparation we 27/28 juin ACAB
DESCRIPTION:
URL:https://aulocal.org/event/reunion-preparation-we-27-28-juin-acab/
END:VEVENT
BEGIN:VEVENT
DTSTART;TZID=Europe/Paris:20250530T193000
DTEND;TZID=Europe/Paris:20250530T210000
DTSTAMP:20260424T084212
CREATED:20250524T074109Z
LAST-MODIFIED:20250528T144926Z
UID:433-1748633400-1748638800@aulocal.org
SUMMARY:19h30 - 21h00 Atelier chant
DESCRIPTION:2ème atelier chant à 19h30 pour la « vraivolution des casseureuses du 14 juillet » (nom non définitif) \n/!\ Rendez-vous à 19h30 à la base de loisirs des Trois Lacs à Rochebrune pour profiter du bon temps. /!\ \n  \n 
URL:https://aulocal.org/event/19h30-21h00-atelier-chant/
END:VEVENT
END:VCALENDAR