BEGIN:VCALENDAR
VERSION:2.0
PRODID:-//AU LOCAL - ECPv6.15.11//NONSGML v1.0//EN
CALSCALE:GREGORIAN
METHOD:PUBLISH
X-ORIGINAL-URL:https://aulocal.org
X-WR-CALDESC:Évènements pour AU LOCAL
REFRESH-INTERVAL;VALUE=DURATION:PT1H
X-Robots-Tag:noindex
X-PUBLISHED-TTL:PT1H
BEGIN:VTIMEZONE
TZID:Europe/Paris
BEGIN:DAYLIGHT
TZOFFSETFROM:+0100
TZOFFSETTO:+0200
TZNAME:CEST
DTSTART:20240331T010000
END:DAYLIGHT
BEGIN:STANDARD
TZOFFSETFROM:+0200
TZOFFSETTO:+0100
TZNAME:CET
DTSTART:20241027T010000
END:STANDARD
BEGIN:DAYLIGHT
TZOFFSETFROM:+0100
TZOFFSETTO:+0200
TZNAME:CEST
DTSTART:20250330T010000
END:DAYLIGHT
BEGIN:STANDARD
TZOFFSETFROM:+0200
TZOFFSETTO:+0100
TZNAME:CET
DTSTART:20251026T010000
END:STANDARD
BEGIN:DAYLIGHT
TZOFFSETFROM:+0100
TZOFFSETTO:+0200
TZNAME:CEST
DTSTART:20260329T010000
END:DAYLIGHT
BEGIN:STANDARD
TZOFFSETFROM:+0200
TZOFFSETTO:+0100
TZNAME:CET
DTSTART:20261025T010000
END:STANDARD
END:VTIMEZONE
BEGIN:VEVENT
DTSTART;TZID=Europe/Paris:20250303T190000
DTEND;TZID=Europe/Paris:20250303T230000
DTSTAMP:20260424T112718
CREATED:20250213T170418Z
LAST-MODIFIED:20250213T170418Z
UID:370-1741028400-1741042800@aulocal.org
SUMMARY:Présentation de la revue Nunatak
DESCRIPTION:A l’occasion de la sortie du dixième numéro\, des membres de la rédaction viendront présenter la revue. \n19 h : ouverture des portes / auberge espagnole \n20 h : présentation \nAu sommaire de cette parution : \n— Tenir sur ses deux jambes / Histoire croisée de François Tosquelles et de l’hôpital psychiatrique de Saint-Alban \n— Les dessous du dessous du glacier / Notes sur une saison de guidage \n— Botanique\, une histoire de sexe… et de sexisme / Ou pourquoi on a mis 8 000 ans à comprendre comment les fleurs se reproduisent malgré notre intelligence supérieure\n— Au nom du pire / La résilience est une antirésistance\n— Des femmes qui tiennent la campagne / Entretien avec Fanny Renard et Sophie Orange\n— Les alpinistes sont là / Mais pour quoi faire ? \n—  Mon cartable pue / Poème d’Hermine \n  \n 
URL:https://aulocal.org/event/presentation-de-la-revue-nunatak/
END:VEVENT
BEGIN:VEVENT
DTSTART;TZID=Europe/Paris:20250330T180000
DTEND;TZID=Europe/Paris:20250330T200000
DTSTAMP:20260424T112718
CREATED:20250328T193013Z
LAST-MODIFIED:20250328T193144Z
UID:382-1743357600-1743364800@aulocal.org
SUMMARY:Table d'écriture aux prisonnier.es
DESCRIPTION:
URL:https://aulocal.org/event/table-decriture-aux-prisonnier-es/
END:VEVENT
END:VCALENDAR