BEGIN:VCALENDAR
VERSION:2.0
PRODID:-//AU LOCAL - ECPv6.15.11//NONSGML v1.0//EN
CALSCALE:GREGORIAN
METHOD:PUBLISH
X-WR-CALNAME:AU LOCAL
X-ORIGINAL-URL:https://aulocal.org
X-WR-CALDESC:Évènements pour AU LOCAL
REFRESH-INTERVAL;VALUE=DURATION:PT1H
X-Robots-Tag:noindex
X-PUBLISHED-TTL:PT1H
BEGIN:VTIMEZONE
TZID:Europe/Paris
BEGIN:DAYLIGHT
TZOFFSETFROM:+0100
TZOFFSETTO:+0200
TZNAME:CEST
DTSTART:20230326T010000
END:DAYLIGHT
BEGIN:STANDARD
TZOFFSETFROM:+0200
TZOFFSETTO:+0100
TZNAME:CET
DTSTART:20231029T010000
END:STANDARD
BEGIN:DAYLIGHT
TZOFFSETFROM:+0100
TZOFFSETTO:+0200
TZNAME:CEST
DTSTART:20240331T010000
END:DAYLIGHT
BEGIN:STANDARD
TZOFFSETFROM:+0200
TZOFFSETTO:+0100
TZNAME:CET
DTSTART:20241027T010000
END:STANDARD
BEGIN:DAYLIGHT
TZOFFSETFROM:+0100
TZOFFSETTO:+0200
TZNAME:CEST
DTSTART:20250330T010000
END:DAYLIGHT
BEGIN:STANDARD
TZOFFSETFROM:+0200
TZOFFSETTO:+0100
TZNAME:CET
DTSTART:20251026T010000
END:STANDARD
END:VTIMEZONE
BEGIN:VEVENT
DTSTART;TZID=Europe/Paris:20241103T130000
DTEND;TZID=Europe/Paris:20241103T160000
DTSTAMP:20260424T173304
CREATED:20241021T160732Z
LAST-MODIFIED:20241021T160808Z
UID:223-1730638800-1730649600@aulocal.org
SUMMARY:AG féministe #2 - Dimanche 3 novembre 14h
DESCRIPTION:AG FEMINISTE du 05\n– Gap –\nDimanche 3 novembre\n 14h à 17h30\nAu Local\, 13 rue Carnot à Gap\n(1er étage)\nEn mixité choisie sans hommes cis hétéro pédé.e.s bienvenu.e.s\n\nL’AG féministe fait sa rentrée après notre premier RDV du 7 juillet dans le contexte des élections législatives et de la progression constante des votes et idées du RN. Nous avions la volonté de continuer de nous rencontrer et de nous organiser. \nFemmes et minorités de genre (personnes trans\, non-binaires\, intersexes…) sont ciblées par les politiques de l’extrême droite. \n\n\nA l’intersection des oppressions\, les femmes voilées\, trans\, racisées\, handis\, précaires\, exilé.e.s\, et toutes les personnes LGBTQI+\, le sont d’autant plus. \nPour faciliter le déroulement de cette deuxième AG\, nous avons imaginé des temps de discussions et d’ateliers (ordre du jour ci-dessous). \nNous aurons également besoin de vos contributions :\nOn vous propose de ramener quelque chose (un objet\, un truc à écouter\, une histoire\, etc.) en lien avec l’histoire\, la construction de votre féminisme\, quelque chose qui vous permet de définir ce qu’est le féminisme pour vous et/ou ce que ça représente pour vous. \nVoici l’ordre du jour qu’on vous propose :\n1. Point sur l’actualité du LOCAL ( parce qu’on utilise ce lieu\, ce serait bien qu’on vous partage ce que ça représente)\n2. L’actu féministe du 05 : Partage nous les dates de RDV et les nouvelles à ne pas manquer dans ton patelin ou à côté !\n3. Récits de nos féminismes\n4. Pause\n5. Créer une culture commune du féminisme : Rappel de l’origine de cette AG / Quel.s féminisme.s voulons nous défendre dans cette AG ?\n6. Orga de la Journée internationale contre les violences faites aux femmes du 25 novembre + journée du souvenir trans (TDoR) le 20 novembre : qu’est-ce qu’on veut faire ensemble ?\n7. Divers : pour qui veut ajouter quelque chose\n8. Orga prochaine AG \nPS: le Local est un lieu mixte\, le rez-de-chaussée sera ouvert à tous.te.s.\nRappel : l’AG se déroulera au 1er étage en mixité choisie sans hommes cis hétéro – p&eacu te;dé.e.s bienvenu.e.s \nPS2 : Le covid et autres virus circulent et on trouve important de faire gaffe aux personnes les plus fragiles et/ou celles qui les accompagnent.\nRamène ton masque si tu sens que tu as des symptômes.\nEt si parmi vous\, y en a qui ont une boite de masques à mettre à dispo et du gel hydro alcoolique\, ce serait cool d’en ramener 😉 \nA très vite\nSeel et Amel
URL:https://aulocal.org/event/ag-feministe-2-dimanche-3-novembre-14h/
END:VEVENT
BEGIN:VEVENT
DTSTART;TZID=Europe/Paris:20241104T080000
DTEND;TZID=Europe/Paris:20241104T160000
DTSTAMP:20260424T173304
CREATED:20241021T191141Z
LAST-MODIFIED:20241021T191141Z
UID:228-1730707200-1730736000@aulocal.org
SUMMARY:Adelha
DESCRIPTION:
URL:https://aulocal.org/event/adelha/
END:VEVENT
BEGIN:VEVENT
DTSTART;TZID=Europe/Paris:20241107T170000
DTEND;TZID=Europe/Paris:20241107T200000
DTSTAMP:20260424T173304
CREATED:20241026T072104Z
LAST-MODIFIED:20241026T072203Z
UID:234-1730998800-1731009600@aulocal.org
SUMMARY:Fais GAF! #2 - Fémonationalisme : comprendre et contrer
DESCRIPTION:Second rendez-vous « Fais GAF! »\, Fémonationalisme : comprendre et contrer !\nArpentage d’articles et écoute de podcast autour du fémonationalisme.\n\nGAF: Groupe de Défense Féministe\, contre l’extrême droite\n\nPour rappel c’est un espace en mixité choisie (sans homme cis-genre hétérosexuel- pédés bienvenus)\n\nLors d’un premier temps en « petits » groupe\, nous vous proposons\, à l’aide de supports audio et écrits de:\n– découvrir ce qu’est le fémonationalisme ;\n– identifier les arguments des fémonationalistes ;\n– identifier les similitudes et divergences avec le féminisme « de gauche ».\nPuis\, lors d’un second temps\, en plénière nous vous invitons à :\n– restituer nos écoutes et lectures ;\n– réfléchir ensemble à comment contrer les arguments des fémonationalistes.
URL:https://aulocal.org/event/fais-gaf-2-7-novembre-femonationalisme-comprendre-et-contrer/
END:VEVENT
BEGIN:VEVENT
DTSTART;TZID=Europe/Paris:20241109T090000
DTEND;TZID=Europe/Paris:20241109T110000
DTSTAMP:20260424T173304
CREATED:20241102T133155Z
LAST-MODIFIED:20241102T133155Z
UID:243-1731142800-1731150000@aulocal.org
SUMMARY:Matinée informatique
DESCRIPTION:
URL:https://aulocal.org/event/matinee-informatique/
END:VEVENT
BEGIN:VEVENT
DTSTART;TZID=Europe/Paris:20241109T110000
DTEND;TZID=Europe/Paris:20241109T130000
DTSTAMP:20260424T173304
CREATED:20241021T193214Z
LAST-MODIFIED:20241021T193214Z
UID:230-1731150000-1731157200@aulocal.org
SUMMARY:Prépa journée sur la police
DESCRIPTION:
URL:https://aulocal.org/event/prepa-journee-sur-la-police/
END:VEVENT
BEGIN:VEVENT
DTSTART;TZID=Europe/Paris:20241112T170000
DTEND;TZID=Europe/Paris:20241112T200000
DTSTAMP:20260424T173304
CREATED:20241110T163840Z
LAST-MODIFIED:20241110T163840Z
UID:246-1731430800-1731441600@aulocal.org
SUMMARY:réunion etabli
DESCRIPTION:
URL:https://aulocal.org/event/reunion-etabli/
END:VEVENT
BEGIN:VEVENT
DTSTART;TZID=Europe/Paris:20241112T183000
DTEND;TZID=Europe/Paris:20241112T213000
DTSTAMP:20260424T173304
CREATED:20241102T132934Z
LAST-MODIFIED:20241105T211225Z
UID:241-1731436200-1731447000@aulocal.org
SUMMARY:Soirée Linux
DESCRIPTION:Venez avec votre liste de questions ou simplement pour découvrir les logiciels libres. Les membres de Linux-Alpes seront là pour vous aider ou vous conseiller dans la maîtrise du système GNU/Linux. \n\nSi vous souhaitez faire une installation ou une mise à niveau\, pour gagner du temps et par sécurité\, il est vivement recommandé de faire une sauvegarde de vos données sur un support externe avant de venir. Contactez nous si vous avez besoin d’aide\, nous essaierons de vous en apporter dans la mesure de nos disponibilités. Vous pouvez aussi consulter la partie installation de https://doc.ubuntu-fr.org/ \nÉvidemment\, l’entrée est libre et ouverte à tous.
URL:https://aulocal.org/event/soiree-linux/
END:VEVENT
BEGIN:VEVENT
DTSTART;TZID=Europe/Paris:20241114T170000
DTEND;TZID=Europe/Paris:20241114T223000
DTSTAMP:20260424T173304
CREATED:20240920T130100Z
LAST-MODIFIED:20240920T130100Z
UID:170-1731603600-1731623400@aulocal.org
SUMMARY:Projection film festival Alimenterre
DESCRIPTION:
URL:https://aulocal.org/event/projection-film-festival-alimenterre/
END:VEVENT
BEGIN:VEVENT
DTSTART;TZID=Europe/Paris:20241115T170000
DTEND;TZID=Europe/Paris:20241115T193000
DTSTAMP:20260424T173304
CREATED:20241026T072625Z
LAST-MODIFIED:20241026T072625Z
UID:238-1731690000-1731699000@aulocal.org
SUMMARY:Rencontre avec Aurore Althen\, autrice de Promenade Robert Schuman un soir de mai
DESCRIPTION:Promenade Robert Schuman un soir de mai\, de l’agression au féminisme\, d’Aurore Althen \n« Au départ\, je suis une femme qui se croit libre\, comme tant d’autres. Et puis un soir de mai\, à la veille de mes 25 ans\, ma route croise celle d’un monstre qui me viole et me fracasse. Je m’en sors\, vivante\, mais malgré ma carcasse toujours présente\, je suis bien morte ce soir-là et une nouvelle jeune femme a vu le jour. Voici le récit de mon histoire\, mais aussi de celle des femmes. En dix ans\, depuis ce soir de mai 2012\, j’ai ouvert les yeux sur la réalité masquée du vécu des femmes\, sur le fonctionnement de notre société patriarcale\, sur ses mécanismes\, ses constructions\, et j’ai ouvert les yeux sur mon passé. De découvertes en compréhensions\, je n’ai fait que dégringoler et j’ai eu besoin de partager\, ce que j’observe désormais de notre monde cloisonné\, normé\, qui violente et opprime la moitié de l’humanité. Dans ce monde de femmes et d’hommes\, construit.e.s de toutes pièces\, des genres qui s’échappent de la binarité et des humains sans étiquettes tentent toutefois d’inventer des façons nouvelles et plus libres d’exister. Ce livre est une invitation à plonger dans les profondeurs de nos vies\, de nos histoires\, à observer et à questionner les schémas qui nous dirigent et entraînent tant d’injustices\, d’inégalités\, de violences dans la vie des femmes. Je livre ici mon témoignage\, mes souffrances\, mon regard\, mes explorations et apprentissages dans l’espoir d’offrir à chacun.e des clés pour ouvrir ses propres portes\, et que nous puissions cheminer\, grandir\, évoluer ensemble. »
URL:https://aulocal.org/event/rencontre-avec-aurore-althen-autrice-de-promenade-robert-schuman-un-soir-de-mai/
END:VEVENT
BEGIN:VEVENT
DTSTART;TZID=Europe/Paris:20241116T170000
DTEND;TZID=Europe/Paris:20241116T223000
DTSTAMP:20260424T173304
CREATED:20241021T193301Z
LAST-MODIFIED:20241107T094050Z
UID:232-1731776400-1731796200@aulocal.org
SUMMARY:Soirée pyjama
DESCRIPTION:
URL:https://aulocal.org/event/soiree-pyjama/
END:VEVENT
BEGIN:VEVENT
DTSTART;TZID=Europe/Paris:20241117T230000
DTEND;TZID=Europe/Paris:20241118T225959
DTSTAMP:20260424T173304
CREATED:20240920T130708Z
LAST-MODIFIED:20240920T130708Z
UID:175-1731884400-1731970799@aulocal.org
SUMMARY:réunion Biocoop
DESCRIPTION:
URL:https://aulocal.org/event/reunion-biocoop-3/
END:VEVENT
END:VCALENDAR