BEGIN:VCALENDAR
VERSION:2.0
PRODID:-//AU LOCAL - ECPv6.15.11//NONSGML v1.0//EN
CALSCALE:GREGORIAN
METHOD:PUBLISH
X-WR-CALNAME:AU LOCAL
X-ORIGINAL-URL:https://aulocal.org
X-WR-CALDESC:Évènements pour AU LOCAL
REFRESH-INTERVAL;VALUE=DURATION:PT1H
X-Robots-Tag:noindex
X-PUBLISHED-TTL:PT1H
BEGIN:VTIMEZONE
TZID:Europe/Paris
BEGIN:DAYLIGHT
TZOFFSETFROM:+0100
TZOFFSETTO:+0200
TZNAME:CEST
DTSTART:20230326T010000
END:DAYLIGHT
BEGIN:STANDARD
TZOFFSETFROM:+0200
TZOFFSETTO:+0100
TZNAME:CET
DTSTART:20231029T010000
END:STANDARD
BEGIN:DAYLIGHT
TZOFFSETFROM:+0100
TZOFFSETTO:+0200
TZNAME:CEST
DTSTART:20240331T010000
END:DAYLIGHT
BEGIN:STANDARD
TZOFFSETFROM:+0200
TZOFFSETTO:+0100
TZNAME:CET
DTSTART:20241027T010000
END:STANDARD
BEGIN:DAYLIGHT
TZOFFSETFROM:+0100
TZOFFSETTO:+0200
TZNAME:CEST
DTSTART:20250330T010000
END:DAYLIGHT
BEGIN:STANDARD
TZOFFSETFROM:+0200
TZOFFSETTO:+0100
TZNAME:CET
DTSTART:20251026T010000
END:STANDARD
END:VTIMEZONE
BEGIN:VEVENT
DTSTART;TZID=Europe/Paris:20241002T120000
DTEND;TZID=Europe/Paris:20241002T140000
DTSTAMP:20260424T185545
CREATED:20240920T125520Z
LAST-MODIFIED:20240920T125520Z
UID:158-1727870400-1727877600@aulocal.org
SUMMARY:réunion scop
DESCRIPTION:
URL:https://aulocal.org/event/reunion-scop-2/
END:VEVENT
BEGIN:VEVENT
DTSTART;TZID=Europe/Paris:20241002T180000
DTEND;TZID=Europe/Paris:20241002T220000
DTSTAMP:20260424T185545
CREATED:20240927T165552Z
LAST-MODIFIED:20240927T170429Z
UID:194-1727892000-1727906400@aulocal.org
SUMMARY:Ni Dieu ni maître\, une histoire de l'anarchisme (épisode I)\, de Tancrède Ramonet
DESCRIPTION:Episode I : La Volupté de la destruction (1840-1914) \n19 h : auberge espagnole \n20 h : projection
URL:https://aulocal.org/event/ni-dieu-ni-maitre-une-histoire-de-lanarchisme-de-tancrede-ramonet/
END:VEVENT
BEGIN:VEVENT
DTSTART;TZID=Europe/Paris:20241003T170000
DTEND;TZID=Europe/Paris:20241003T200000
DTSTAMP:20260424T185545
CREATED:20240912T111415Z
LAST-MODIFIED:20240912T111415Z
UID:133-1727974800-1727985600@aulocal.org
SUMMARY:"Fais GAF!" ( Groupe d'Autodéfénse Féministe contre l'extrême droite)
DESCRIPTION:« Fais GAF! » \nUn rendez-vous féministe d’auto-défense physique\, verbale et intellectuelle face à l’extrême droite.\n\nSuite à l’Assemblée Générale féministe qui s’est tenue pendant les élections législatives de 2024\, le GAF* propose un rendez-vous régulier\, auto-géré et en mixité choisie\, au Local (Gap).\nAutodéfense ? S’entraîner à argumenter\, déjouer des discours\, s’initier à un sport de combat\, écouter et décortiquer des argumentaires\, s’empouvoirer : nous souhaitons partager nos outils pour faire face à l’extrême droite avec nos corps et nos mots.\nRégulier ? Tous les premiers jeudis du mois\, de 18h à 21h\, avec un temps d’atelier d’environ 2h et un temps informel de grignotage partagé.\nAuto-géré ? La programmation et l’animation des ateliers est prise en charge à tour de rôle par les participant.e.s\, les propositions et organisations sont bienvenues.\nEn mixité choisie ? « Fais GAF! » est un rendez-vous sans hommes cisgenres hétérosexuels (pédés bienvenus).\n\nLe Local : 13 rue Carnot\, à Gap. Accessible PMR sauf WC. Lieu mixte.\n\n*GAF: Groupe d’Autodéfense Féministe\n______________________________________________________________________________________________\n\nPremier rendez-vous « Fais GAF! »\, Dans les débats\, face aux propos sexistes\, racistes\, etc.. Que répondre ?\n\nPartage d’expérience et analyse collective d’autodéfense verbale.\nSous forme de scénettes et remise en situation.\n\n\nViens si tu le souhaites (mais pas obligatoire)\, avec une situation en tête que tu accepterais de partager: tu as été confronté.e à un argument raciste\, sexiste\, etc. et tu souhaites réfléchir à ce que tu as répondu\, ce que tu aurais aimé répondre…\nApporte si tu veux un petit truc d’apéro ou de grignotage à partager.\n \nLe jeudi 3 octobre\, à 18h\, au LOCAL (13 rue Carnot à Gap)\n \nPoint de vigilance: cet espace à vocation à s’empouvoirer avant tout pour se sentir mieux outillées pour faire face à cette situation. Afin de nous protéger au maximum et de prendre soin les unes des autres\, nous avons choisi de limiter cette première séance au cadre de débats en excluant les agressions directes. Néanmoins\, nous avons conscience que certains propos peuvent être des agressions malgré tout\, et nous ferons au mieux pour préserver le cadre de heurts intimes. N’hésite pas à t’associer à cette attention là; nous serons alertes collectivement!
URL:https://aulocal.org/event/fais-gaf-groupe-dautodefense-feministe-contre-lextreme-droite/
END:VEVENT
BEGIN:VEVENT
DTSTART;TZID=Europe/Paris:20241006T173000
DTEND;TZID=Europe/Paris:20241006T193000
DTSTAMP:20260424T185545
CREATED:20240726T085933Z
LAST-MODIFIED:20240726T085933Z
UID:64-1728235800-1728243000@aulocal.org
SUMMARY:Assemblée le Local
DESCRIPTION:
URL:https://aulocal.org/event/assemblee-le-local-5/
END:VEVENT
BEGIN:VEVENT
DTSTART;TZID=Europe/Paris:20241008T070000
DTEND;TZID=Europe/Paris:20241008T160000
DTSTAMP:20260424T185545
CREATED:20240726T092621Z
LAST-MODIFIED:20240726T092621Z
UID:87-1728370800-1728403200@aulocal.org
SUMMARY:Etage du Local : ADELHA – Ligue de l’Enseignement 05
DESCRIPTION:L’étage du Local sera utilisé par ADELHA – Ligue de l’enseignement 05 \nLe rez-de-chaussée et la BLOB reste ouverts sur les permanences habituelles.
URL:https://aulocal.org/event/etage-du-local-adelha-ligue-de-lenseignement-05-3/
END:VEVENT
BEGIN:VEVENT
DTSTART;TZID=Europe/Paris:20241008T120000
DTEND;TZID=Europe/Paris:20241008T140000
DTSTAMP:20260424T185545
CREATED:20240920T125552Z
LAST-MODIFIED:20240920T125552Z
UID:160-1728388800-1728396000@aulocal.org
SUMMARY:réunion scop
DESCRIPTION:
URL:https://aulocal.org/event/reunion-scop-3/
END:VEVENT
BEGIN:VEVENT
DTSTART;TZID=Europe/Paris:20241008T170000
DTEND;TZID=Europe/Paris:20241008T190000
DTSTAMP:20260424T185545
CREATED:20240919T145739Z
LAST-MODIFIED:20240919T145739Z
UID:141-1728406800-1728414000@aulocal.org
SUMMARY:Soirée Linux Alpes
DESCRIPTION:Venez avec votre liste de questions ou simplement pour découvrir les logiciels libres. Les membres de Linux-Alpes seront là pour vous aider ou vous conseiller dans la maîtrise du système GNU/Linux. \n \n  \nSi vous souhaitez faire une installation ou une mise à niveau\, pour gagner du temps et par sécurité\, il est vivement recommandé de faire une sauvegarde de vos données sur un support externe avant de venir. Contactez nous si vous avez besoin d’aide\, nous essaierons de vous en apporter dans la mesure de nos disponibilités. Vous pouvez aussi consulter la partie installation de https://doc.ubuntu-fr.org/
URL:https://aulocal.org/event/soiree-linux-alpes/
END:VEVENT
BEGIN:VEVENT
DTSTART;TZID=Europe/Paris:20241009T180000
DTEND;TZID=Europe/Paris:20241009T220000
DTSTAMP:20260424T185545
CREATED:20240927T165827Z
LAST-MODIFIED:20240927T165827Z
UID:196-1728496800-1728511200@aulocal.org
SUMMARY:Ni Dieu ni maître\, une histoire de l'anarchisme (épisode II)\, de Tancrède Ramonet
DESCRIPTION:Episode II : La Mémoire des vaincus (1911-1945) \n19 h : auberge espagnole \n20 h : projection
URL:https://aulocal.org/event/ni-dieu-ni-maitre-une-histoire-de-lanarchisme-episode-ii-de-tancrede-ramonet/
END:VEVENT
BEGIN:VEVENT
DTSTART;TZID=Europe/Paris:20241012T170000
DTEND;TZID=Europe/Paris:20241012T223000
DTSTAMP:20260424T185545
CREATED:20240919T150746Z
LAST-MODIFIED:20241003T081127Z
UID:145-1728752400-1728772200@aulocal.org
SUMMARY:Soirée indienne et festive au Local
DESCRIPTION:A l’occasion de la fête indienne de Dussehra\, soirée indienne au Local ! \n \n18h30 : Projection du documentaire “La marche des gueux” : 25.000 paysannes et paysans sans terre se rassemblent à Gwalior pour une marche d’un mois à travers le pays. Leur objectif: obtenir des terres gouvernementales pour vivre dignement. \nPrésentation et animation par Yann\, qui a participé à cette marche et en a organisé d’autres. \n20h00 : Repas indien\, musiques et danses indiennes
URL:https://aulocal.org/event/dussehra-au-local/
END:VEVENT
BEGIN:VEVENT
DTSTART;TZID=Europe/Paris:20241015T170000
DTEND;TZID=Europe/Paris:20241015T220000
DTSTAMP:20260424T185545
CREATED:20240919T151117Z
LAST-MODIFIED:20241008T130908Z
UID:148-1729011600-1729029600@aulocal.org
SUMMARY:Le fil qui nous lie - Petite Ecole des Gilets Jaunes
DESCRIPTION:Documentaire + Théâtre d’objets sur la révolution d’Espagne et sur celles qui nous restent à mener \n  \n \n 
URL:https://aulocal.org/event/petite-ecole-des-gilets-jaunes/
END:VEVENT
BEGIN:VEVENT
DTSTART;TZID=Europe/Paris:20241016T120000
DTEND;TZID=Europe/Paris:20241016T140000
DTSTAMP:20260424T185545
CREATED:20240920T125643Z
LAST-MODIFIED:20240920T125643Z
UID:162-1729080000-1729087200@aulocal.org
SUMMARY:réunion scop
DESCRIPTION:
URL:https://aulocal.org/event/reunion-scop-4/
END:VEVENT
BEGIN:VEVENT
DTSTART;TZID=Europe/Paris:20241017T173000
DTEND;TZID=Europe/Paris:20241017T193000
DTSTAMP:20260424T185545
CREATED:20240919T152239Z
LAST-MODIFIED:20240919T152239Z
UID:150-1729186200-1729193400@aulocal.org
SUMMARY:Arpentage de livre - Moi les hommes politiques\, j'en fais du compost de Mathilde Viot
DESCRIPTION:La Bibliothèque Libertaire Ouverte au Bublic vous propose l’arpentage du livre Moi les hommes politiques\, j’en fais du compost de Mathilde Viot. \n« Arpentage » quézaco ?  \nIl s’agit d’une méthode de lecture qui permet à un groupe de s’approprier de façon critique des savoirs complexes. \nConcrètement comment ça se passe ? \n1 Venez sans avoir lu le livre !\n2 Le livre est découpé en autant de passages que de participant-e-s\n3 Les participant.es lisent “leur” passage de leur coté sur un temps donné. On prend son temps : si on a pas tout lu sur le temps imparti… ce n’est pas grave !\n4 Le groupe se reconstitue et partage “sa” perception et compréhension de “son” passage.\n5 Lorsque chacun.e a pu partager au groupe “sa” lecture\, les échanges se prolongent en débat libre \n  \n\n\n\n\nLe livre en question : \n\n\n« Arrivée à l’assemblée nationale avec des idéaux\, j’ai déchanté dès le premier café avalé (3\,60 euros en face du Palais Bourbon). Machisme\, violence\, silence\, rapports de domination : le Parlement reproduit les hiérarchies qui écrasent les femmes et les minorités. »\nComme collaboratrice d’élus\, Mathilde Viot était aux premières loges pour voir le pouvoir masculin à l’œuvre. Son livre au ton mordant et vif est un récit de l’intérieur\, nourri d’anecdotes\, de scènes vues… et de colère.\n\nElle y décortique cette masculinité hégémonique et toxique pour notre démocratie et analyse la façon dont l’institution tout entière est tournée vers la dissimulation de la violence qu’elle génère. Alors\, autant s’en débarrasser ! Car la politique a tout à gagner à une redéfinition féministe et écologiste de ses codes.
URL:https://aulocal.org/event/arpentage-de-livre-moi-les-hommes-politiques-jen-fais-du-compost-de-mathilde-viot/
END:VEVENT
BEGIN:VEVENT
DTSTART;TZID=Europe/Paris:20241023T180000
DTEND;TZID=Europe/Paris:20241023T220000
DTSTAMP:20260424T185545
CREATED:20240927T170328Z
LAST-MODIFIED:20240927T170328Z
UID:198-1729706400-1729720800@aulocal.org
SUMMARY:Ni Dieu ni maître\, une histoire de l'anarchisme (épisodes III et IV)\, de Tancrède Ramonet
DESCRIPTION:Episode III : Des Fleurs et des pavés (1945-1969) \nEpisode IV : Les Réseaux de la colère (1965-2012) \n19 h : auberge espagnole \n20 h : projection
URL:https://aulocal.org/event/ni-dieu-ni-maitre-une-histoire-de-lanarchisme-episodes-iii-et-iv-de-tancrede-ramonet/
END:VEVENT
BEGIN:VEVENT
DTSTART;TZID=Europe/Paris:20241024T120000
DTEND;TZID=Europe/Paris:20241024T140000
DTSTAMP:20260424T185545
CREATED:20240920T125721Z
LAST-MODIFIED:20240920T125721Z
UID:164-1729771200-1729778400@aulocal.org
SUMMARY:réunion scop
DESCRIPTION:
URL:https://aulocal.org/event/reunion-scop-5/
END:VEVENT
BEGIN:VEVENT
DTSTART;TZID=Europe/Paris:20241025T180000
DTEND;TZID=Europe/Paris:20241025T220000
DTSTAMP:20260424T185545
CREATED:20241009T171819Z
LAST-MODIFIED:20241009T174632Z
UID:213-1729879200-1729893600@aulocal.org
SUMMARY:Table d'écriture - Soutien aux prisonnier.es
DESCRIPTION:Venez partager la plume et l’apéro à l’Atelier d’écriture mensuel de lettres à destinations des taulards et taulardes. \nLuttons contre l’isolement carcéral !
URL:https://aulocal.org/event/table-decriture-soutien-aux-prisonnier-es/
LOCATION:au local\, 34 rue du colonel roux\, gap\, 05000\, France
END:VEVENT
BEGIN:VEVENT
DTSTART;TZID=Europe/Paris:20241029T120000
DTEND;TZID=Europe/Paris:20241029T140000
DTSTAMP:20260424T185545
CREATED:20240920T125807Z
LAST-MODIFIED:20240920T125807Z
UID:166-1730203200-1730210400@aulocal.org
SUMMARY:réunion scop
DESCRIPTION:
URL:https://aulocal.org/event/reunion-scop-6/
END:VEVENT
BEGIN:VEVENT
DTSTART;TZID=Europe/Paris:20241029T230000
DTEND;TZID=Europe/Paris:20241030T225959
DTSTAMP:20260424T185545
CREATED:20240920T125858Z
LAST-MODIFIED:20240920T125858Z
UID:168-1730242800-1730329199@aulocal.org
SUMMARY:réunion Biocoop
DESCRIPTION:
URL:https://aulocal.org/event/reunion-biocoop/
END:VEVENT
END:VCALENDAR