BEGIN:VCALENDAR
VERSION:2.0
PRODID:-//AU LOCAL - ECPv6.15.11//NONSGML v1.0//EN
CALSCALE:GREGORIAN
METHOD:PUBLISH
X-WR-CALNAME:AU LOCAL
X-ORIGINAL-URL:https://aulocal.org
X-WR-CALDESC:Évènements pour AU LOCAL
REFRESH-INTERVAL;VALUE=DURATION:PT1H
X-Robots-Tag:noindex
X-PUBLISHED-TTL:PT1H
BEGIN:VTIMEZONE
TZID:Europe/Paris
BEGIN:DAYLIGHT
TZOFFSETFROM:+0100
TZOFFSETTO:+0200
TZNAME:CEST
DTSTART:20230326T010000
END:DAYLIGHT
BEGIN:STANDARD
TZOFFSETFROM:+0200
TZOFFSETTO:+0100
TZNAME:CET
DTSTART:20231029T010000
END:STANDARD
BEGIN:DAYLIGHT
TZOFFSETFROM:+0100
TZOFFSETTO:+0200
TZNAME:CEST
DTSTART:20240331T010000
END:DAYLIGHT
BEGIN:STANDARD
TZOFFSETFROM:+0200
TZOFFSETTO:+0100
TZNAME:CET
DTSTART:20241027T010000
END:STANDARD
BEGIN:DAYLIGHT
TZOFFSETFROM:+0100
TZOFFSETTO:+0200
TZNAME:CEST
DTSTART:20250330T010000
END:DAYLIGHT
BEGIN:STANDARD
TZOFFSETFROM:+0200
TZOFFSETTO:+0100
TZNAME:CET
DTSTART:20251026T010000
END:STANDARD
END:VTIMEZONE
BEGIN:VEVENT
DTSTART;TZID=Europe/Paris:20240901T173000
DTEND;TZID=Europe/Paris:20240901T193000
DTSTAMP:20260424T202254
CREATED:20240726T085826Z
LAST-MODIFIED:20240726T085826Z
UID:60-1725211800-1725219000@aulocal.org
SUMMARY:Assemblée le Local
DESCRIPTION:
URL:https://aulocal.org/event/assemblee-le-local-3/
END:VEVENT
BEGIN:VEVENT
DTSTART;TZID=Europe/Paris:20240909T170000
DTEND;TZID=Europe/Paris:20240909T193000
DTSTAMP:20260424T202254
CREATED:20240726T090641Z
LAST-MODIFIED:20240908T160725Z
UID:78-1725901200-1725910200@aulocal.org
SUMMARY:Les chats qui touillent - Réunion d'organisation de la cantine autogérée
DESCRIPTION:
URL:https://aulocal.org/event/les-chats-qui-touillent-reunion-dorganisation-de-la-cantine-autogeree-4/
END:VEVENT
BEGIN:VEVENT
DTSTART;TZID=Europe/Paris:20240910T070000
DTEND;TZID=Europe/Paris:20240910T160000
DTSTAMP:20260424T202254
CREATED:20240726T091409Z
LAST-MODIFIED:20240726T093055Z
UID:80-1725951600-1725984000@aulocal.org
SUMMARY:Etage du Local : Journée Sud Solidaires - sécurité numérique
DESCRIPTION:L’étage du Local sera utilisé par Sud Solidaire la matinée et l’après-midi. \nLe rez-de-chaussée et la BLOB reste ouverts sur les permanences habituelles.
URL:https://aulocal.org/event/journee-sud-solidaires-securite-numerique/
END:VEVENT
BEGIN:VEVENT
DTSTART;TZID=Europe/Paris:20240911T080000
DTEND;TZID=Europe/Paris:20240911T100000
DTSTAMP:20260424T202254
CREATED:20240909T073632Z
LAST-MODIFIED:20240909T073714Z
UID:124-1726041600-1726048800@aulocal.org
SUMMARY:Visite Petite Ourse
DESCRIPTION:Visite de l’association la Petite Ourse en prévision d’une possible exposition de meubles en décembre au Local
URL:https://aulocal.org/event/visite-petite-ourse/
END:VEVENT
BEGIN:VEVENT
DTSTART;TZID=Europe/Paris:20240917T170000
DTEND;TZID=Europe/Paris:20240917T193000
DTSTAMP:20260424T202254
CREATED:20240726T085858Z
LAST-MODIFIED:20240924T132432Z
UID:62-1726592400-1726601400@aulocal.org
SUMMARY:Assemblée le Local
DESCRIPTION:Ordre du jour collaboratif : \nhttps://mensuel.framapad.org/p/d4f7dk56nl-a9wx?lang=fr \nCompte-rendu : Plénière 17 septembre 2024
URL:https://aulocal.org/event/assemblee-le-local-4/
END:VEVENT
BEGIN:VEVENT
DTSTART;TZID=Europe/Paris:20240918T193000
DTEND;TZID=Europe/Paris:20240918T220000
DTSTAMP:20260424T202254
CREATED:20240726T090240Z
LAST-MODIFIED:20240908T160833Z
UID:70-1726687800-1726696800@aulocal.org
SUMMARY:Ciné Pirate - Ciné Débat
DESCRIPTION:
URL:https://aulocal.org/event/cine-pirate-cine-debat-3/
END:VEVENT
BEGIN:VEVENT
DTSTART;TZID=Europe/Paris:20240920T080000
DTEND;TZID=Europe/Paris:20240920T100000
DTSTAMP:20260424T202254
CREATED:20240919T122811Z
LAST-MODIFIED:20240919T122811Z
UID:138-1726819200-1726826400@aulocal.org
SUMMARY:La Veilleuse - Réunion organisation du 25 novembre
DESCRIPTION:
URL:https://aulocal.org/event/la-veilleuse-reunion-organisation-du-25-novembre/
END:VEVENT
BEGIN:VEVENT
DTSTART;TZID=Europe/Paris:20240920T170000
DTEND;TZID=Europe/Paris:20240920T220000
DTSTAMP:20260424T202254
CREATED:20240811T123130Z
LAST-MODIFIED:20240909T073501Z
UID:109-1726851600-1726869600@aulocal.org
SUMMARY:Soirée Solidarité - Accueil des mineurs isolés
DESCRIPTION:— Ouverture de la soirée avec un ciné-docu sur l’accueil des mineurs avant évaluation par le département. \n— Débat \n— Repas partagé ou cantine
URL:https://aulocal.org/event/soiree-de-reflexion-et-dorganisation-sur-laccueil-des-personnes-exilees/
END:VEVENT
BEGIN:VEVENT
DTSTART;TZID=Europe/Paris:20240925T193000
DTEND;TZID=Europe/Paris:20240925T220000
DTSTAMP:20260424T202254
CREATED:20240924T133305Z
LAST-MODIFIED:20240924T133723Z
UID:183-1727292600-1727301600@aulocal.org
SUMMARY:Ciné débat - L'amour et les forêts
DESCRIPTION:Ce mercredi\, projection du film l’Amour et les forêts réalisé par Valérie Donzelli \nSorti en 2023\, il s’agit de l’adaptation du roman éponyme d’Eric Reinhard avec Virginie Efira et Melvil Poupaud. \nValérie Donzelli met en scène les mécanismes et la dérive de l’emprise narcissique d’un mari sur sa femme à la suite d’une rencontre amoureuse. \nComment rentre-t-on dans une relation toxique ? Comment reconnaître un pervers narcissique et de quelle façon il manipule sa victime ? Comment s’en sort-on la tête haute ? C’est le débat qu’on vous propose ce mercredi à la suite de la projection !
URL:https://aulocal.org/event/cine-debat-lamour-et-les-forets/
END:VEVENT
BEGIN:VEVENT
DTSTART;TZID=Europe/Paris:20240926T120000
DTEND;TZID=Europe/Paris:20240926T140000
DTSTAMP:20260424T202254
CREATED:20240920T125353Z
LAST-MODIFIED:20240920T125353Z
UID:156-1727352000-1727359200@aulocal.org
SUMMARY:réunion scop
DESCRIPTION:
URL:https://aulocal.org/event/reunion-scop/
END:VEVENT
BEGIN:VEVENT
DTSTART;TZID=Europe/Paris:20240927T180000
DTEND;TZID=Europe/Paris:20240927T220000
DTSTAMP:20260424T202254
CREATED:20240901T202610Z
LAST-MODIFIED:20240901T202610Z
UID:114-1727460000-1727474400@aulocal.org
SUMMARY:Atelier d'écriture à destination des personnes détenues
DESCRIPTION:19 h : présentation / apéro \nPuis écriture des lettres
URL:https://aulocal.org/event/atelier-decriture-a-destination-des-personnes-detenues/
LOCATION:au local\, 34 rue du colonel roux\, gap\, 05000\, France
END:VEVENT
END:VCALENDAR