BEGIN:VCALENDAR
VERSION:2.0
PRODID:-//AU LOCAL - ECPv6.15.11//NONSGML v1.0//EN
CALSCALE:GREGORIAN
METHOD:PUBLISH
X-ORIGINAL-URL:https://aulocal.org
X-WR-CALDESC:Évènements pour AU LOCAL
REFRESH-INTERVAL;VALUE=DURATION:PT1H
X-Robots-Tag:noindex
X-PUBLISHED-TTL:PT1H
BEGIN:VTIMEZONE
TZID:Europe/Paris
BEGIN:DAYLIGHT
TZOFFSETFROM:+0100
TZOFFSETTO:+0200
TZNAME:CEST
DTSTART:20230326T010000
END:DAYLIGHT
BEGIN:STANDARD
TZOFFSETFROM:+0200
TZOFFSETTO:+0100
TZNAME:CET
DTSTART:20231029T010000
END:STANDARD
BEGIN:DAYLIGHT
TZOFFSETFROM:+0100
TZOFFSETTO:+0200
TZNAME:CEST
DTSTART:20240331T010000
END:DAYLIGHT
BEGIN:STANDARD
TZOFFSETFROM:+0200
TZOFFSETTO:+0100
TZNAME:CET
DTSTART:20241027T010000
END:STANDARD
BEGIN:DAYLIGHT
TZOFFSETFROM:+0100
TZOFFSETTO:+0200
TZNAME:CEST
DTSTART:20250330T010000
END:DAYLIGHT
BEGIN:STANDARD
TZOFFSETFROM:+0200
TZOFFSETTO:+0100
TZNAME:CET
DTSTART:20251026T010000
END:STANDARD
END:VTIMEZONE
BEGIN:VEVENT
DTSTART;TZID=Europe/Paris:20240805T170000
DTEND;TZID=Europe/Paris:20240805T193000
DTSTAMP:20260424T233417
CREATED:20240726T090530Z
LAST-MODIFIED:20240726T090530Z
UID:72-1722877200-1722886200@aulocal.org
SUMMARY:Les chats qui touillent - Réunion d'organisation de la cantine autogérée
DESCRIPTION:
URL:https://aulocal.org/event/les-chats-qui-touillent-reunion-dorganisation-de-la-cantine-autogeree/
END:VEVENT
BEGIN:VEVENT
DTSTART;TZID=Europe/Paris:20240813T173000
DTEND;TZID=Europe/Paris:20240813T193000
DTSTAMP:20260424T233417
CREATED:20240726T085744Z
LAST-MODIFIED:20240811T122604Z
UID:58-1723570200-1723577400@aulocal.org
SUMMARY:Assemblée Le Local
DESCRIPTION:Ordre du jour collaboratif \nhttps://mensuel.framapad.org/p/odj-ag-du-local-du-18-juin-2024-a8d1?lang=fr \n 
URL:https://aulocal.org/event/assemblee-le-local-2/
END:VEVENT
BEGIN:VEVENT
DTSTART;TZID=Europe/Paris:20240814T193000
DTEND;TZID=Europe/Paris:20240814T220000
DTSTAMP:20260424T233417
CREATED:20240726T090118Z
LAST-MODIFIED:20240726T090118Z
UID:66-1723663800-1723672800@aulocal.org
SUMMARY:Ciné Pirate - Ciné débat
DESCRIPTION:
URL:https://aulocal.org/event/cine-pirate-cine-debat/
END:VEVENT
BEGIN:VEVENT
DTSTART;TZID=Europe/Paris:20240819T170000
DTEND;TZID=Europe/Paris:20240819T193000
DTSTAMP:20260424T233417
CREATED:20240726T090551Z
LAST-MODIFIED:20240726T090551Z
UID:74-1724086800-1724095800@aulocal.org
SUMMARY:Les chats qui touillent - Réunion d'organisation de la cantine autogérée
DESCRIPTION:
URL:https://aulocal.org/event/les-chats-qui-touillent-reunion-dorganisation-de-la-cantine-autogeree-2/
END:VEVENT
BEGIN:VEVENT
DTSTART;TZID=Europe/Paris:20240827T080000
DTEND;TZID=Europe/Paris:20240827T160000
DTSTAMP:20260424T233417
CREATED:20240726T092410Z
LAST-MODIFIED:20240726T092410Z
UID:82-1724745600-1724774400@aulocal.org
SUMMARY:Etage du Local : ADELHA - Ligue de l'Enseignement 05
DESCRIPTION:L’étage du Local sera utilisé par ADELHA – Ligue de l’enseignement 05 \nLe rez-de-chaussée et la BLOB reste ouverts sur les permanences habituelles.
URL:https://aulocal.org/event/etage-du-local-adelha-ligue-de-lenseignement-05/
END:VEVENT
BEGIN:VEVENT
DTSTART;TZID=Europe/Paris:20240828T193000
DTEND;TZID=Europe/Paris:20240828T220000
DTSTAMP:20260424T233417
CREATED:20240726T090205Z
LAST-MODIFIED:20240726T090205Z
UID:68-1724873400-1724882400@aulocal.org
SUMMARY:Ciné Pirate - ciné débat
DESCRIPTION:
URL:https://aulocal.org/event/cine-pirate-cine-debat-2/
END:VEVENT
BEGIN:VEVENT
DTSTART;TZID=Europe/Paris:20240831T180000
DTEND;TZID=Europe/Paris:20240831T200000
DTSTAMP:20260424T233417
CREATED:20240714T100651Z
LAST-MODIFIED:20240726T142310Z
UID:47-1725127200-1725134400@aulocal.org
SUMMARY:Atelier d'écriture - Soutien aux prisonnier.es
DESCRIPTION:Atelier d’écriture de lettres de soutien aux personnes emprisonnées.\nContre l’isolement que provoque l’enfermement carcéral\, Brisons les murs des prisons.\n\nVenez partager la plume et l’apéro !
URL:https://aulocal.org/event/atelier-decriture-soutien-aux-prisonnier-es/
END:VEVENT
END:VCALENDAR