BEGIN:VCALENDAR
VERSION:2.0
PRODID:-//AU LOCAL - ECPv6.15.11//NONSGML v1.0//EN
CALSCALE:GREGORIAN
METHOD:PUBLISH
X-WR-CALNAME:AU LOCAL
X-ORIGINAL-URL:https://aulocal.org
X-WR-CALDESC:Évènements pour AU LOCAL
REFRESH-INTERVAL;VALUE=DURATION:PT1H
X-Robots-Tag:noindex
X-PUBLISHED-TTL:PT1H
BEGIN:VTIMEZONE
TZID:Europe/Paris
BEGIN:DAYLIGHT
TZOFFSETFROM:+0100
TZOFFSETTO:+0200
TZNAME:CEST
DTSTART:20230326T010000
END:DAYLIGHT
BEGIN:STANDARD
TZOFFSETFROM:+0200
TZOFFSETTO:+0100
TZNAME:CET
DTSTART:20231029T010000
END:STANDARD
BEGIN:DAYLIGHT
TZOFFSETFROM:+0100
TZOFFSETTO:+0200
TZNAME:CEST
DTSTART:20240331T010000
END:DAYLIGHT
BEGIN:STANDARD
TZOFFSETFROM:+0200
TZOFFSETTO:+0100
TZNAME:CET
DTSTART:20241027T010000
END:STANDARD
BEGIN:DAYLIGHT
TZOFFSETFROM:+0100
TZOFFSETTO:+0200
TZNAME:CEST
DTSTART:20250330T010000
END:DAYLIGHT
BEGIN:STANDARD
TZOFFSETFROM:+0200
TZOFFSETTO:+0100
TZNAME:CET
DTSTART:20251026T010000
END:STANDARD
END:VTIMEZONE
BEGIN:VEVENT
DTSTART;TZID=Europe/Paris:20240703T193000
DTEND;TZID=Europe/Paris:20240703T210000
DTSTAMP:20260424T233125
CREATED:20240617T194142Z
LAST-MODIFIED:20240617T194142Z
UID:30-1720035000-1720040400@aulocal.org
SUMMARY:Ciné-Pirate
DESCRIPTION:film : « Je verrai toujours vos visages »\, réalisé par Jeanne Herry en 2023
URL:https://aulocal.org/event/cine-pirate-2/
END:VEVENT
BEGIN:VEVENT
DTSTART;TZID=Europe/Paris:20240706T180000
DTEND;TZID=Europe/Paris:20240706T200000
DTSTAMP:20260424T233125
CREATED:20240617T140914Z
LAST-MODIFIED:20240617T200902Z
UID:18-1720288800-1720296000@aulocal.org
SUMMARY:Table D'écriture
DESCRIPTION:Écriture de lettres de soutien aux prisonnier.es \n 
URL:https://aulocal.org/event/table-decriture/
END:VEVENT
BEGIN:VEVENT
DTSTART;TZID=Europe/Paris:20240716T180000
DTEND;TZID=Europe/Paris:20240716T200000
DTSTAMP:20260424T233125
CREATED:20240701T103217Z
LAST-MODIFIED:20240726T094135Z
UID:41-1721152800-1721160000@aulocal.org
SUMMARY:Assemblée Organisationnelle Plénière
DESCRIPTION:Ordre du jour 16 juillet \nCR 16 juillet
URL:https://aulocal.org/event/assemblee-organisationnelle-pleniere-2/
END:VEVENT
BEGIN:VEVENT
DTSTART;TZID=Europe/Paris:20240717T190000
DTEND;TZID=Europe/Paris:20240717T210000
DTSTAMP:20260424T233125
CREATED:20240716T141050Z
LAST-MODIFIED:20240716T141050Z
UID:51-1721242800-1721250000@aulocal.org
SUMMARY:Ciné-pirate
DESCRIPTION:Projection du film « Snowden » du réalisateur Oliver Stone sortie en 2016. Suivi d’un débat. \n \n  \n 
URL:https://aulocal.org/event/cine-pirate-3/
END:VEVENT
BEGIN:VEVENT
DTSTART;TZID=Europe/Paris:20240728T180000
DTEND;TZID=Europe/Paris:20240728T193000
DTSTAMP:20260424T233125
CREATED:20240726T085656Z
LAST-MODIFIED:20240802T145944Z
UID:56-1722189600-1722195000@aulocal.org
SUMMARY:Assemblée Le Local
DESCRIPTION:ORDRE DU JOUR COLLABORATIF ET COMPTE RENDU : \nhttps://hebdo.framapad.org/p/pleniere-local-28-juillet-a931?lang=fr \n 
URL:https://aulocal.org/event/assemblee-le-local/
END:VEVENT
BEGIN:VEVENT
DTSTART;TZID=Europe/Paris:20240731T193000
DTEND;TZID=Europe/Paris:20240731T220000
DTSTAMP:20260424T233125
CREATED:20240726T093722Z
LAST-MODIFIED:20240726T093829Z
UID:90-1722454200-1722463200@aulocal.org
SUMMARY:Ciné Captain Fantastic + débat : école de la république et école en liberté
DESCRIPTION:
URL:https://aulocal.org/event/cine-captain-fantastic-debat-lecole-de-la-republique-et-ecole-en-liberte/
END:VEVENT
END:VCALENDAR