BEGIN:VCALENDAR
VERSION:2.0
PRODID:-//AU LOCAL - ECPv6.15.11//NONSGML v1.0//EN
CALSCALE:GREGORIAN
METHOD:PUBLISH
X-WR-CALNAME:AU LOCAL
X-ORIGINAL-URL:https://aulocal.org
X-WR-CALDESC:Évènements pour AU LOCAL
REFRESH-INTERVAL;VALUE=DURATION:PT1H
X-Robots-Tag:noindex
X-PUBLISHED-TTL:PT1H
BEGIN:VTIMEZONE
TZID:Europe/Paris
BEGIN:DAYLIGHT
TZOFFSETFROM:+0100
TZOFFSETTO:+0200
TZNAME:CEST
DTSTART:20250330T010000
END:DAYLIGHT
BEGIN:STANDARD
TZOFFSETFROM:+0200
TZOFFSETTO:+0100
TZNAME:CET
DTSTART:20251026T010000
END:STANDARD
BEGIN:DAYLIGHT
TZOFFSETFROM:+0100
TZOFFSETTO:+0200
TZNAME:CEST
DTSTART:20260329T010000
END:DAYLIGHT
BEGIN:STANDARD
TZOFFSETFROM:+0200
TZOFFSETTO:+0100
TZNAME:CET
DTSTART:20261025T010000
END:STANDARD
BEGIN:DAYLIGHT
TZOFFSETFROM:+0100
TZOFFSETTO:+0200
TZNAME:CEST
DTSTART:20270328T010000
END:DAYLIGHT
BEGIN:STANDARD
TZOFFSETFROM:+0200
TZOFFSETTO:+0100
TZNAME:CET
DTSTART:20271031T010000
END:STANDARD
END:VTIMEZONE
BEGIN:VEVENT
DTSTART;TZID=Europe/Paris:20260425T173000
DTEND;TZID=Europe/Paris:20260425T193000
DTSTAMP:20260423T172716
CREATED:20260406T092415Z
LAST-MODIFIED:20260406T092415Z
UID:745-1777138200-1777145400@aulocal.org
SUMMARY:Atelier d'écriture aux prisonnier-e-s
DESCRIPTION:L’atelier d’écriture mensuel aux personnes enfermées aura lieu le samedi 25 avril. Venez écrire aux détenu-e-s et lutter contre l’isolement carcéral !
URL:https://aulocal.org/event/atelier-decriture-aux-prisonnier-e-s/
LOCATION:au local\, 34 rue du colonel roux\, gap\, 05000\, France
END:VEVENT
BEGIN:VEVENT
DTSTART;TZID=Europe/Paris:20260425T190000
DTEND;TZID=Europe/Paris:20260425T190000
DTSTAMP:20260423T172716
CREATED:20260327T111805Z
LAST-MODIFIED:20260416T084552Z
UID:734-1777143600-1777143600@aulocal.org
SUMMARY:soirée Jean Marc et  France telecom
DESCRIPTION:Nous organisons à Gap le 25 avril\, date où Jean Marc serait parti à la retraite\, une soirée hommage avec projection du documentaire « Par la fenêtre ou par la porte » fait par des syndiqués de France Telecom\, étant donné qu’il a créé la branche locale dans le 05. D’autres personnes ex France Télécom seront présents. \nLes chats qui touillent proposeront une cantine repas indien  à prix libre.
URL:https://aulocal.org/event/soiree-jean-marc-et-france-telecom/
LOCATION:Mobilidées\, 5 place Jules Ferry\, Gap\, 05000
ATTACH;FMTTYPE=image/jpeg:https://aulocal.org/wp-content/uploads/2026/03/IMG-20260410-WA0001.jpg
END:VEVENT
BEGIN:VEVENT
DTSTART;TZID=Europe/Paris:20260426T100000
DTEND;TZID=Europe/Paris:20260426T190000
DTSTAMP:20260423T172716
CREATED:20260327T111100Z
LAST-MODIFIED:20260416T094346Z
UID:731-1777197600-1777230000@aulocal.org
SUMMARY:atelier banderole\, costumes\, slogans 1er Mai
DESCRIPTION:Rdv pour préparer le 1er Mai\, couture banderoles et costumes\,  slogans … toute la journée au local!
URL:https://aulocal.org/event/atelier-banderole-costumes-slogans-1er-mai/
END:VEVENT
BEGIN:VEVENT
DTSTART;TZID=Europe/Paris:20260429T120000
DTEND;TZID=Europe/Paris:20260429T140000
DTSTAMP:20260423T172716
CREATED:20260416T085617Z
LAST-MODIFIED:20260416T085617Z
UID:753-1777464000-1777471200@aulocal.org
SUMMARY:Assemblée ordinaire du local le mercredi 29 Avril à midi
DESCRIPTION:Prochaine assemblée ordinaire du local le mercredi 29 Avril à midi\nodj = mandats (besoin de renfort en com)\, permanences\, événements à venir\, autre ?
URL:https://aulocal.org/event/assemblee-ordinaire-du-local-le-mercredi-29-avril-a-midi/
END:VEVENT
END:VCALENDAR