BEGIN:VCALENDAR
VERSION:2.0
PRODID:-//AU LOCAL - ECPv6.15.11//NONSGML v1.0//EN
CALSCALE:GREGORIAN
METHOD:PUBLISH
X-WR-CALNAME:AU LOCAL
X-ORIGINAL-URL:https://aulocal.org
X-WR-CALDESC:Évènements pour AU LOCAL
REFRESH-INTERVAL;VALUE=DURATION:PT1H
X-Robots-Tag:noindex
X-PUBLISHED-TTL:PT1H
BEGIN:VTIMEZONE
TZID:Europe/Paris
BEGIN:DAYLIGHT
TZOFFSETFROM:+0100
TZOFFSETTO:+0200
TZNAME:CEST
DTSTART:20250330T010000
END:DAYLIGHT
BEGIN:STANDARD
TZOFFSETFROM:+0200
TZOFFSETTO:+0100
TZNAME:CET
DTSTART:20251026T010000
END:STANDARD
BEGIN:DAYLIGHT
TZOFFSETFROM:+0100
TZOFFSETTO:+0200
TZNAME:CEST
DTSTART:20260329T010000
END:DAYLIGHT
BEGIN:STANDARD
TZOFFSETFROM:+0200
TZOFFSETTO:+0100
TZNAME:CET
DTSTART:20261025T010000
END:STANDARD
BEGIN:DAYLIGHT
TZOFFSETFROM:+0100
TZOFFSETTO:+0200
TZNAME:CEST
DTSTART:20270328T010000
END:DAYLIGHT
BEGIN:STANDARD
TZOFFSETFROM:+0200
TZOFFSETTO:+0100
TZNAME:CET
DTSTART:20271031T010000
END:STANDARD
END:VTIMEZONE
BEGIN:VEVENT
DTSTART;TZID=Europe/Paris:20260408T160000
DTEND;TZID=Europe/Paris:20260408T183000
DTSTAMP:20260423T171815
CREATED:20251203T071604Z
LAST-MODIFIED:20251203T071619Z
UID:620-1775664000-1775673000@aulocal.org
SUMMARY:Café Crypto Cookies Installation et configuration de Briar.
DESCRIPTION:Goûter consacré à des pratiques et des\noutils de sécurité basiques pour les outils numériques. \nLe but : à 16 heures on vient avec des jus\, des tisanes\, du thé\, du\ncafé et des biscuits\, on se met au chaud\, on sort les smartphones\npendant le goûter pour faire une mise en pratique rapide\, et\néventuellement on enchaîne sur des petits jeux de société. \n– mercredi 8 avril :\nInstallation et configuration de Briar.\nUtilité : pouvoir échanger de manière sécurisée même sans réseau\ntéléphonique (par exemple\, en manifestation)\, ou à travers TOR.
URL:https://aulocal.org/event/cafe-crypto-cookies/
END:VEVENT
END:VCALENDAR