BEGIN:VCALENDAR
VERSION:2.0
PRODID:-//AU LOCAL - ECPv6.15.11//NONSGML v1.0//EN
CALSCALE:GREGORIAN
METHOD:PUBLISH
X-WR-CALNAME:AU LOCAL
X-ORIGINAL-URL:https://aulocal.org
X-WR-CALDESC:Évènements pour AU LOCAL
REFRESH-INTERVAL;VALUE=DURATION:PT1H
X-Robots-Tag:noindex
X-PUBLISHED-TTL:PT1H
BEGIN:VTIMEZONE
TZID:Europe/Paris
BEGIN:DAYLIGHT
TZOFFSETFROM:+0100
TZOFFSETTO:+0200
TZNAME:CEST
DTSTART:20240331T010000
END:DAYLIGHT
BEGIN:STANDARD
TZOFFSETFROM:+0200
TZOFFSETTO:+0100
TZNAME:CET
DTSTART:20241027T010000
END:STANDARD
BEGIN:DAYLIGHT
TZOFFSETFROM:+0100
TZOFFSETTO:+0200
TZNAME:CEST
DTSTART:20250330T010000
END:DAYLIGHT
BEGIN:STANDARD
TZOFFSETFROM:+0200
TZOFFSETTO:+0100
TZNAME:CET
DTSTART:20251026T010000
END:STANDARD
BEGIN:DAYLIGHT
TZOFFSETFROM:+0100
TZOFFSETTO:+0200
TZNAME:CEST
DTSTART:20260329T010000
END:DAYLIGHT
BEGIN:STANDARD
TZOFFSETFROM:+0200
TZOFFSETTO:+0100
TZNAME:CET
DTSTART:20261025T010000
END:STANDARD
END:VTIMEZONE
BEGIN:VEVENT
DTSTART;TZID=Europe/Paris:20251217T160000
DTEND;TZID=Europe/Paris:20251217T190000
DTSTAMP:20260423T230519
CREATED:20251203T070540Z
LAST-MODIFIED:20251203T070557Z
UID:609-1765987200-1765998000@aulocal.org
SUMMARY:Cafés Crypto-Cookies - Vérification des signatures des clefs de chiffrement pour Signal
DESCRIPTION:Goûter consacré à des pratiques et des outils de sécurité basiques pour les outils numériques. \nLe but : à 16 heures on vient avec des jus\, des tisanes\, du thé\, du café et des biscuits\, on se met au chaud\, on sort les smartphones pendant le goûter pour faire une mise en pratique rapide\, et éventuellement on enchaîne sur des petits jeux de société. \n– mercredi 17 décembre :\nVérification des signatures des clefs de chiffrement pour Signal\nUtilité : vérifier si l’interlocuteur est bien celui qu’on espère\nqu’il soit).\nOn répétera cette vérification des clefs de chiffrement à chaque\natelier suivant\, tant qu’il y en aura besoin.
URL:https://aulocal.org/event/cafes-crypto-cookies-verification-des-signatures-des-clefs-de-chiffrement-pour-signal/
END:VEVENT
END:VCALENDAR