BEGIN:VCALENDAR
VERSION:2.0
PRODID:-//AU LOCAL - ECPv6.15.11//NONSGML v1.0//EN
CALSCALE:GREGORIAN
METHOD:PUBLISH
X-ORIGINAL-URL:https://aulocal.org
X-WR-CALDESC:Évènements pour AU LOCAL
REFRESH-INTERVAL;VALUE=DURATION:PT1H
X-Robots-Tag:noindex
X-PUBLISHED-TTL:PT1H
BEGIN:VTIMEZONE
TZID:Europe/Paris
BEGIN:DAYLIGHT
TZOFFSETFROM:+0100
TZOFFSETTO:+0200
TZNAME:CEST
DTSTART:20240331T010000
END:DAYLIGHT
BEGIN:STANDARD
TZOFFSETFROM:+0200
TZOFFSETTO:+0100
TZNAME:CET
DTSTART:20241027T010000
END:STANDARD
BEGIN:DAYLIGHT
TZOFFSETFROM:+0100
TZOFFSETTO:+0200
TZNAME:CEST
DTSTART:20250330T010000
END:DAYLIGHT
BEGIN:STANDARD
TZOFFSETFROM:+0200
TZOFFSETTO:+0100
TZNAME:CET
DTSTART:20251026T010000
END:STANDARD
BEGIN:DAYLIGHT
TZOFFSETFROM:+0100
TZOFFSETTO:+0200
TZNAME:CEST
DTSTART:20260329T010000
END:DAYLIGHT
BEGIN:STANDARD
TZOFFSETFROM:+0200
TZOFFSETTO:+0100
TZNAME:CET
DTSTART:20261025T010000
END:STANDARD
END:VTIMEZONE
BEGIN:VEVENT
DTSTART;TZID=Europe/Paris:20251204T180000
DTEND;TZID=Europe/Paris:20251204T220000
DTSTAMP:20260423T230756
CREATED:20251129T084411Z
LAST-MODIFIED:20251129T084432Z
UID:605-1764871200-1764885600@aulocal.org
SUMMARY:Fais GAF!
DESCRIPTION:Jeudi 4 décembre 2025 à partir de 18h\n\n!!! RDV au Local (34 rue du Colonel Roux\, Gap) !!!\n\n\n\n\n💥 En cette fin d'année 2025\, on vous propose de quoi préparer\nnos meilleures réparties pour les fêtes de fin d'année pas\ntoujours entourées d'allié.es...\n\nExpérimentation et entraînement avec l'outil "Tac au Faf"\n\net le jeu "Moi\, c'est Madame"\n\n\n\n\nN'hésite pas à ramener de quoi faire un grignotage partagé  \n\nDiscussions/ateliers en mixité choisie sans homme cis-hétéro.\n\n\n\n\n_Le Local est un lieu mixte\, les autres activités qui s'y trouvent_\n_restent ouvertes à toustes en dehors du groupe !_\n\nLe "Fais GAF !" vit grâce aux propositions et à l'implication de\nchacun.e.x\n\nTu as un atelier à proposer pour une prochaine date? Tu veux\nt'exprimer sur ton expérience à "Fais GAF !"? Tu veux contribuer\nà ce que ce rendez-vous mensuel perdure? Tu veux mieux comprendre\nde quoi il s'agit ? Sois bienvenu.e.x !\n\n***********\n\n"Fais GAF!"\nUn rendez-vous féministe d'auto-défense physique\, verbale et\nintellectuelle face à l'extrême droite. \n\nSuite à l'Assemblée Générale féministe qui s'est tenue pendant\nles élections législatives de 2024\, le GAF* propose un rendez-vous\nrégulier\, auto-géré et en mixité choisie.\nAutodéfense ? S'entraîner à argumenter\, déjouer des discours\,\ns'initier à un sport de combat\, écouter et décortiquer des\nargumentaires\, s'empouvoirer : nous souhaitons partager nos outils\npour faire face à l'extrême droite avec nos corps et nos mots.\nRégulier ? Tous les premiers jeudis du mois\, de 18h à 21h\, avec\nun temps d'atelier d'environ 2h et un temps informel de grignotage\npartagé.\nAuto-géré ? La programmation et l'animation des ateliers est\nprise en charge à tour de rôle par les participant.e.s\, les\npropositions et organisations sont bienvenues.\nEn mixité choisie ? "Fais GAF!" est un rendez-vous sans hommes\ncisgenres hétérosexuels (pédé.e.x bienvenu.x).\n\n*GAF: Groupe d'Autodéfense Féministe
URL:https://aulocal.org/event/fais-gaf-3/
LOCATION:au local\, 34 rue du colonel roux\, gap\, 05000\, France
END:VEVENT
END:VCALENDAR