BEGIN:VCALENDAR
VERSION:2.0
PRODID:-//AU LOCAL - ECPv6.15.11//NONSGML v1.0//EN
CALSCALE:GREGORIAN
METHOD:PUBLISH
X-WR-CALNAME:AU LOCAL
X-ORIGINAL-URL:https://aulocal.org
X-WR-CALDESC:Évènements pour AU LOCAL
REFRESH-INTERVAL;VALUE=DURATION:PT1H
X-Robots-Tag:noindex
X-PUBLISHED-TTL:PT1H
BEGIN:VTIMEZONE
TZID:Europe/Paris
BEGIN:DAYLIGHT
TZOFFSETFROM:+0100
TZOFFSETTO:+0200
TZNAME:CEST
DTSTART:20240331T010000
END:DAYLIGHT
BEGIN:STANDARD
TZOFFSETFROM:+0200
TZOFFSETTO:+0100
TZNAME:CET
DTSTART:20241027T010000
END:STANDARD
BEGIN:DAYLIGHT
TZOFFSETFROM:+0100
TZOFFSETTO:+0200
TZNAME:CEST
DTSTART:20250330T010000
END:DAYLIGHT
BEGIN:STANDARD
TZOFFSETFROM:+0200
TZOFFSETTO:+0100
TZNAME:CET
DTSTART:20251026T010000
END:STANDARD
BEGIN:DAYLIGHT
TZOFFSETFROM:+0100
TZOFFSETTO:+0200
TZNAME:CEST
DTSTART:20260329T010000
END:DAYLIGHT
BEGIN:STANDARD
TZOFFSETFROM:+0200
TZOFFSETTO:+0100
TZNAME:CET
DTSTART:20261025T010000
END:STANDARD
END:VTIMEZONE
BEGIN:VEVENT
DTSTART;TZID=Europe/Paris:20251113T193000
DTEND;TZID=Europe/Paris:20251113T213000
DTSTAMP:20260424T003232
CREATED:20251108T082049Z
LAST-MODIFIED:20251108T082620Z
UID:567-1763062200-1763069400@aulocal.org
SUMMARY:BLOB : arpentage
DESCRIPTION:L’objectif de ce temps est de se rassembler à plusieurs pour décortiquer des textes : prendre le temps de lire\, en discuter\, confronter nos compréhensions\, faire du lien avec le contexte actuel. La méthode s’inspire de l’éducation populaire\, qui se veut accessible à toutes et tous\, qu’on connaisse ou non les auteurices et les concepts\, qu’on soit à l’aise ou non à lire des essais : le but est justement de s’attaquer à plusieurs à des textes réputés complexes pour que ça le soit moins ! \nLa lecture proposée pour cette session : poursuivre la lecture de La Convivialité d’Ivan Illich (une première partie avait été lue en septembre\, là on prendrait la suite du texte\, mais tu peux bien sûr venir même si tu n’as pas été au premier) \nDéroulé : \n\n19h : arrivée conviviale\n19h30-21h30 : lecture collective (prendre le temps de lire\, puis prendre le temps d’en discuter)\n\nA préparer : Pas besoin de lire quoique ce soit en amont\, on prendra le temps sur place ! Vous pouvez apporter de quoi grignoter/boire à partager\, mais cela ne doit pas être un frein. \nLes prochaines fois ? N’hésite pas à proposer un livre que tu as envie de décortiquer et partager\, c’est ouvert !
URL:https://aulocal.org/event/blob-arpentage-2/
END:VEVENT
END:VCALENDAR