BEGIN:VCALENDAR
VERSION:2.0
PRODID:-//AU LOCAL - ECPv6.15.11//NONSGML v1.0//EN
CALSCALE:GREGORIAN
METHOD:PUBLISH
X-ORIGINAL-URL:https://aulocal.org
X-WR-CALDESC:Évènements pour AU LOCAL
REFRESH-INTERVAL;VALUE=DURATION:PT1H
X-Robots-Tag:noindex
X-PUBLISHED-TTL:PT1H
BEGIN:VTIMEZONE
TZID:Europe/Paris
BEGIN:DAYLIGHT
TZOFFSETFROM:+0100
TZOFFSETTO:+0200
TZNAME:CEST
DTSTART:20240331T010000
END:DAYLIGHT
BEGIN:STANDARD
TZOFFSETFROM:+0200
TZOFFSETTO:+0100
TZNAME:CET
DTSTART:20241027T010000
END:STANDARD
BEGIN:DAYLIGHT
TZOFFSETFROM:+0100
TZOFFSETTO:+0200
TZNAME:CEST
DTSTART:20250330T010000
END:DAYLIGHT
BEGIN:STANDARD
TZOFFSETFROM:+0200
TZOFFSETTO:+0100
TZNAME:CET
DTSTART:20251026T010000
END:STANDARD
BEGIN:DAYLIGHT
TZOFFSETFROM:+0100
TZOFFSETTO:+0200
TZNAME:CEST
DTSTART:20260329T010000
END:DAYLIGHT
BEGIN:STANDARD
TZOFFSETFROM:+0200
TZOFFSETTO:+0100
TZNAME:CET
DTSTART:20261025T010000
END:STANDARD
END:VTIMEZONE
BEGIN:VEVENT
DTSTART;TZID=Europe/Paris:20250714T170000
DTEND;TZID=Europe/Paris:20250714T230000
DTSTAMP:20260424T071458
CREATED:20250703T080211Z
LAST-MODIFIED:20250704T083650Z
UID:464-1752512400-1752534000@aulocal.org
SUMMARY:Fêtons\, Faisons\, Fait-on? La Révolution!
DESCRIPTION:« Open Mic »: si vous avez envie de lancé un texte\, une chanson\, un slam ou un RAP… \nEspace d’expression sur le thème des émeutes et révolutions. \nSérigraphie: amener des tee shirts \nAtelier Badges \nInfokiosque \nChorale \nCantine Les chats ki touillent: menu: « plus de frites\, moins de poulet » à prix libre \nTaverne espagnole \nUne compagnone du collectif des louves du Groove balancera un set vers 20h/20h30.
URL:https://aulocal.org/event/fetons-faisons-fait-on-la-revolution/
END:VEVENT
END:VCALENDAR