BEGIN:VCALENDAR
VERSION:2.0
PRODID:-//AU LOCAL - ECPv6.15.11//NONSGML v1.0//EN
CALSCALE:GREGORIAN
METHOD:PUBLISH
X-ORIGINAL-URL:https://aulocal.org
X-WR-CALDESC:Évènements pour AU LOCAL
REFRESH-INTERVAL;VALUE=DURATION:PT1H
X-Robots-Tag:noindex
X-PUBLISHED-TTL:PT1H
BEGIN:VTIMEZONE
TZID:Europe/Paris
BEGIN:DAYLIGHT
TZOFFSETFROM:+0100
TZOFFSETTO:+0200
TZNAME:CEST
DTSTART:20240331T010000
END:DAYLIGHT
BEGIN:STANDARD
TZOFFSETFROM:+0200
TZOFFSETTO:+0100
TZNAME:CET
DTSTART:20241027T010000
END:STANDARD
BEGIN:DAYLIGHT
TZOFFSETFROM:+0100
TZOFFSETTO:+0200
TZNAME:CEST
DTSTART:20250330T010000
END:DAYLIGHT
BEGIN:STANDARD
TZOFFSETFROM:+0200
TZOFFSETTO:+0100
TZNAME:CET
DTSTART:20251026T010000
END:STANDARD
BEGIN:DAYLIGHT
TZOFFSETFROM:+0100
TZOFFSETTO:+0200
TZNAME:CEST
DTSTART:20260329T010000
END:DAYLIGHT
BEGIN:STANDARD
TZOFFSETFROM:+0200
TZOFFSETTO:+0100
TZNAME:CET
DTSTART:20261025T010000
END:STANDARD
END:VTIMEZONE
BEGIN:VEVENT
DTSTART;TZID=Europe/Paris:20250403T180000
DTEND;TZID=Europe/Paris:20250403T210000
DTSTAMP:20260424T112632
CREATED:20250328T191529Z
LAST-MODIFIED:20250328T191529Z
UID:374-1743703200-1743714000@aulocal.org
SUMMARY:Fais GAF - état de surprise /sidération*
DESCRIPTION:Fais GAF – Groupe d’Autodéfense contre l’extrême droite \nRendez-vous en mixité choisie: sans mec cis-genre (PD bienvenu) \nAtelier : L’état de surprise/ sidération*\, en parler et trouver des techniques pour mieux le gérer \nD’abord\, une invitation à observer et à partager ce qui se passe dans nos corps et dans nos têtes lorsque nous vivons un état de surprise/ sidération*. \nPuis\, à partir de nos constats personnels\, trouver des manières\, des astuces\, des conditionnements pour en sortir en impliquant le corps et/ou le mental. \n* INFO « CADRE » : L’idée n’est pas ici de partager nos expériences traumatiques (car dans le Fais GAF\, nous auto-organisons les propositions mais nous ne sommes pas des expert.es et il peut difficile de savoir comment prendre en charge des évènements traumatiques. Nous pourrons en revanche orienter les demandes de ce type vers des structures et personnes professionnelles mais ce ne sera pas l’objet de ce Fais GAF. L’objet de cet atelier est de parler de la surprise qui nous sidère et nous coupe de nos réactions lors d’événements « légers ». Un temps de psychopédagogie pourra être proposé sur ce qui se passe dans le cerveau lors des sidérations traumatiques\, si cela intéresse les participantes et que toutes sont ok pour évoquer cela du point de vue technique. \n 
URL:https://aulocal.org/event/fais-gaf-etat-de-surprise-sideration/
END:VEVENT
END:VCALENDAR