BEGIN:VCALENDAR
VERSION:2.0
PRODID:-//AU LOCAL - ECPv6.15.11//NONSGML v1.0//EN
CALSCALE:GREGORIAN
METHOD:PUBLISH
X-WR-CALNAME:AU LOCAL
X-ORIGINAL-URL:https://aulocal.org
X-WR-CALDESC:Évènements pour AU LOCAL
REFRESH-INTERVAL;VALUE=DURATION:PT1H
X-Robots-Tag:noindex
X-PUBLISHED-TTL:PT1H
BEGIN:VTIMEZONE
TZID:Europe/Paris
BEGIN:DAYLIGHT
TZOFFSETFROM:+0100
TZOFFSETTO:+0200
TZNAME:CEST
DTSTART:20230326T010000
END:DAYLIGHT
BEGIN:STANDARD
TZOFFSETFROM:+0200
TZOFFSETTO:+0100
TZNAME:CET
DTSTART:20231029T010000
END:STANDARD
BEGIN:DAYLIGHT
TZOFFSETFROM:+0100
TZOFFSETTO:+0200
TZNAME:CEST
DTSTART:20240331T010000
END:DAYLIGHT
BEGIN:STANDARD
TZOFFSETFROM:+0200
TZOFFSETTO:+0100
TZNAME:CET
DTSTART:20241027T010000
END:STANDARD
BEGIN:DAYLIGHT
TZOFFSETFROM:+0100
TZOFFSETTO:+0200
TZNAME:CEST
DTSTART:20250330T010000
END:DAYLIGHT
BEGIN:STANDARD
TZOFFSETFROM:+0200
TZOFFSETTO:+0100
TZNAME:CET
DTSTART:20251026T010000
END:STANDARD
END:VTIMEZONE
BEGIN:VEVENT
DTSTART;TZID=Europe/Paris:20241115T170000
DTEND;TZID=Europe/Paris:20241115T193000
DTSTAMP:20260424T185546
CREATED:20241026T072625Z
LAST-MODIFIED:20241026T072625Z
UID:238-1731690000-1731699000@aulocal.org
SUMMARY:Rencontre avec Aurore Althen\, autrice de Promenade Robert Schuman un soir de mai
DESCRIPTION:Promenade Robert Schuman un soir de mai\, de l’agression au féminisme\, d’Aurore Althen \n« Au départ\, je suis une femme qui se croit libre\, comme tant d’autres. Et puis un soir de mai\, à la veille de mes 25 ans\, ma route croise celle d’un monstre qui me viole et me fracasse. Je m’en sors\, vivante\, mais malgré ma carcasse toujours présente\, je suis bien morte ce soir-là et une nouvelle jeune femme a vu le jour. Voici le récit de mon histoire\, mais aussi de celle des femmes. En dix ans\, depuis ce soir de mai 2012\, j’ai ouvert les yeux sur la réalité masquée du vécu des femmes\, sur le fonctionnement de notre société patriarcale\, sur ses mécanismes\, ses constructions\, et j’ai ouvert les yeux sur mon passé. De découvertes en compréhensions\, je n’ai fait que dégringoler et j’ai eu besoin de partager\, ce que j’observe désormais de notre monde cloisonné\, normé\, qui violente et opprime la moitié de l’humanité. Dans ce monde de femmes et d’hommes\, construit.e.s de toutes pièces\, des genres qui s’échappent de la binarité et des humains sans étiquettes tentent toutefois d’inventer des façons nouvelles et plus libres d’exister. Ce livre est une invitation à plonger dans les profondeurs de nos vies\, de nos histoires\, à observer et à questionner les schémas qui nous dirigent et entraînent tant d’injustices\, d’inégalités\, de violences dans la vie des femmes. Je livre ici mon témoignage\, mes souffrances\, mon regard\, mes explorations et apprentissages dans l’espoir d’offrir à chacun.e des clés pour ouvrir ses propres portes\, et que nous puissions cheminer\, grandir\, évoluer ensemble. »
URL:https://aulocal.org/event/rencontre-avec-aurore-althen-autrice-de-promenade-robert-schuman-un-soir-de-mai/
END:VEVENT
END:VCALENDAR