BEGIN:VCALENDAR
VERSION:2.0
PRODID:-//AU LOCAL - ECPv6.15.11//NONSGML v1.0//EN
CALSCALE:GREGORIAN
METHOD:PUBLISH
X-WR-CALNAME:AU LOCAL
X-ORIGINAL-URL:https://aulocal.org
X-WR-CALDESC:Évènements pour AU LOCAL
REFRESH-INTERVAL;VALUE=DURATION:PT1H
X-Robots-Tag:noindex
X-PUBLISHED-TTL:PT1H
BEGIN:VTIMEZONE
TZID:Europe/Paris
BEGIN:DAYLIGHT
TZOFFSETFROM:+0100
TZOFFSETTO:+0200
TZNAME:CEST
DTSTART:20230326T010000
END:DAYLIGHT
BEGIN:STANDARD
TZOFFSETFROM:+0200
TZOFFSETTO:+0100
TZNAME:CET
DTSTART:20231029T010000
END:STANDARD
BEGIN:DAYLIGHT
TZOFFSETFROM:+0100
TZOFFSETTO:+0200
TZNAME:CEST
DTSTART:20240331T010000
END:DAYLIGHT
BEGIN:STANDARD
TZOFFSETFROM:+0200
TZOFFSETTO:+0100
TZNAME:CET
DTSTART:20241027T010000
END:STANDARD
BEGIN:DAYLIGHT
TZOFFSETFROM:+0100
TZOFFSETTO:+0200
TZNAME:CEST
DTSTART:20250330T010000
END:DAYLIGHT
BEGIN:STANDARD
TZOFFSETFROM:+0200
TZOFFSETTO:+0100
TZNAME:CET
DTSTART:20251026T010000
END:STANDARD
END:VTIMEZONE
BEGIN:VEVENT
DTSTART;TZID=Europe/Paris:20241109T090000
DTEND;TZID=Europe/Paris:20241109T110000
DTSTAMP:20260424T185545
CREATED:20241102T133155Z
LAST-MODIFIED:20241102T133155Z
UID:243-1731142800-1731150000@aulocal.org
SUMMARY:Matinée informatique
DESCRIPTION:
URL:https://aulocal.org/event/matinee-informatique/
END:VEVENT
BEGIN:VEVENT
DTSTART;TZID=Europe/Paris:20241109T110000
DTEND;TZID=Europe/Paris:20241109T130000
DTSTAMP:20260424T185545
CREATED:20241021T193214Z
LAST-MODIFIED:20241021T193214Z
UID:230-1731150000-1731157200@aulocal.org
SUMMARY:Prépa journée sur la police
DESCRIPTION:
URL:https://aulocal.org/event/prepa-journee-sur-la-police/
END:VEVENT
END:VCALENDAR