BEGIN:VCALENDAR
VERSION:2.0
PRODID:-//AU LOCAL - ECPv6.15.11//NONSGML v1.0//EN
CALSCALE:GREGORIAN
METHOD:PUBLISH
X-ORIGINAL-URL:https://aulocal.org
X-WR-CALDESC:Évènements pour AU LOCAL
REFRESH-INTERVAL;VALUE=DURATION:PT1H
X-Robots-Tag:noindex
X-PUBLISHED-TTL:PT1H
BEGIN:VTIMEZONE
TZID:Europe/Paris
BEGIN:DAYLIGHT
TZOFFSETFROM:+0100
TZOFFSETTO:+0200
TZNAME:CEST
DTSTART:20230326T010000
END:DAYLIGHT
BEGIN:STANDARD
TZOFFSETFROM:+0200
TZOFFSETTO:+0100
TZNAME:CET
DTSTART:20231029T010000
END:STANDARD
BEGIN:DAYLIGHT
TZOFFSETFROM:+0100
TZOFFSETTO:+0200
TZNAME:CEST
DTSTART:20240331T010000
END:DAYLIGHT
BEGIN:STANDARD
TZOFFSETFROM:+0200
TZOFFSETTO:+0100
TZNAME:CET
DTSTART:20241027T010000
END:STANDARD
BEGIN:DAYLIGHT
TZOFFSETFROM:+0100
TZOFFSETTO:+0200
TZNAME:CEST
DTSTART:20250330T010000
END:DAYLIGHT
BEGIN:STANDARD
TZOFFSETFROM:+0200
TZOFFSETTO:+0100
TZNAME:CET
DTSTART:20251026T010000
END:STANDARD
END:VTIMEZONE
BEGIN:VEVENT
DTSTART;TZID=Europe/Paris:20241107T170000
DTEND;TZID=Europe/Paris:20241107T200000
DTSTAMP:20260424T185734
CREATED:20241026T072104Z
LAST-MODIFIED:20241026T072203Z
UID:234-1730998800-1731009600@aulocal.org
SUMMARY:Fais GAF! #2 - Fémonationalisme : comprendre et contrer
DESCRIPTION:Second rendez-vous « Fais GAF! »\, Fémonationalisme : comprendre et contrer !\nArpentage d’articles et écoute de podcast autour du fémonationalisme.\n\nGAF: Groupe de Défense Féministe\, contre l’extrême droite\n\nPour rappel c’est un espace en mixité choisie (sans homme cis-genre hétérosexuel- pédés bienvenus)\n\nLors d’un premier temps en « petits » groupe\, nous vous proposons\, à l’aide de supports audio et écrits de:\n– découvrir ce qu’est le fémonationalisme ;\n– identifier les arguments des fémonationalistes ;\n– identifier les similitudes et divergences avec le féminisme « de gauche ».\nPuis\, lors d’un second temps\, en plénière nous vous invitons à :\n– restituer nos écoutes et lectures ;\n– réfléchir ensemble à comment contrer les arguments des fémonationalistes.
URL:https://aulocal.org/event/fais-gaf-2-7-novembre-femonationalisme-comprendre-et-contrer/
END:VEVENT
END:VCALENDAR