BEGIN:VCALENDAR
VERSION:2.0
PRODID:-//AU LOCAL - ECPv6.15.11//NONSGML v1.0//EN
CALSCALE:GREGORIAN
METHOD:PUBLISH
X-ORIGINAL-URL:https://aulocal.org
X-WR-CALDESC:Évènements pour AU LOCAL
REFRESH-INTERVAL;VALUE=DURATION:PT1H
X-Robots-Tag:noindex
X-PUBLISHED-TTL:PT1H
BEGIN:VTIMEZONE
TZID:Europe/Paris
BEGIN:DAYLIGHT
TZOFFSETFROM:+0100
TZOFFSETTO:+0200
TZNAME:CEST
DTSTART:20230326T010000
END:DAYLIGHT
BEGIN:STANDARD
TZOFFSETFROM:+0200
TZOFFSETTO:+0100
TZNAME:CET
DTSTART:20231029T010000
END:STANDARD
BEGIN:DAYLIGHT
TZOFFSETFROM:+0100
TZOFFSETTO:+0200
TZNAME:CEST
DTSTART:20240331T010000
END:DAYLIGHT
BEGIN:STANDARD
TZOFFSETFROM:+0200
TZOFFSETTO:+0100
TZNAME:CET
DTSTART:20241027T010000
END:STANDARD
BEGIN:DAYLIGHT
TZOFFSETFROM:+0100
TZOFFSETTO:+0200
TZNAME:CEST
DTSTART:20250330T010000
END:DAYLIGHT
BEGIN:STANDARD
TZOFFSETFROM:+0200
TZOFFSETTO:+0100
TZNAME:CET
DTSTART:20251026T010000
END:STANDARD
END:VTIMEZONE
BEGIN:VEVENT
DTSTART;TZID=Europe/Paris:20241025T180000
DTEND;TZID=Europe/Paris:20241025T220000
DTSTAMP:20260424T202441
CREATED:20241009T171819Z
LAST-MODIFIED:20241009T174632Z
UID:213-1729879200-1729893600@aulocal.org
SUMMARY:Table d'écriture - Soutien aux prisonnier.es
DESCRIPTION:Venez partager la plume et l’apéro à l’Atelier d’écriture mensuel de lettres à destinations des taulards et taulardes. \nLuttons contre l’isolement carcéral !
URL:https://aulocal.org/event/table-decriture-soutien-aux-prisonnier-es/
LOCATION:au local\, 34 rue du colonel roux\, gap\, 05000\, France
END:VEVENT
END:VCALENDAR